BEGIN:VCALENDAR
VERSION:2.0
PRODID:-//Events | FID-Recht//NONSGML Events//EN
CALSCALE:GREGORIAN
X-ORIGINAL-URL:https://events.intrecht.de/termine/
X-WR-CALDESC:Events | FID-Recht - Events
BEGIN:VEVENT
UID:20200602T0945Z-1591091115.9737-EO-599-1@172.16.200.141
STATUS:CONFIRMED
DTSTAMP:20260423T073212Z
CREATED:20251210T092744Z
LAST-MODIFIED:20251210T092744Z
DTSTART;VALUE=DATE:20260326
DTEND;VALUE=DATE:20260328
SUMMARY: Ambivalenzen moderner Verwaltung. Wissenschaftliche Perspektiven a
 uf Bürokratie und ihre Kritik (Tagung)
DESCRIPTION: 26.-27.3.2026 / Speyer https://www.uni-speyer.de/lehrstuehle/l
 evel-2-1/prof-dr-ruth-weber/tagung-ambivalenzen-moderner-verwaltung-maerz-2
 025
X-ALT-DESC;FMTTYPE=text/html: <p>26.-27.3.2026 / Speyer</p><p><a href="http
 s://www.uni-speyer.de/lehrstuehle/level-2-1/prof-dr-ruth-weber/tagung-ambiv
 alenzen-moderner-verwaltung-maerz-2025">https://www.uni-speyer.de/lehrstueh
 le/level-2-1/prof-dr-ruth-weber/tagung-ambivalenzen-moderner-verwaltung-mae
 rz-2025</a></p><p>[av_button label='iCal-Export' link='./feed/eo-events' li
 nk_target='' size='small' position='center' label_display='' title_attr='' 
 icon_select='yes' icon='ue85b' font='entypo-fontello' color='custom' custom
 _bg='#b5123e' custom_font='#ffffff' av_uid='' id='' custom_class='' admin_p
 review_bg='']</p>
CATEGORIES:Öffentliches Recht
LOCATION:Inland
GEO:0.000000;0.000000
ORGANIZER;CN="ViFa-Recht":MAILTO:vifa-recht@sbb.spk-berlin.de
URL;VALUE=URI:https://events.intrecht.de/termine/termin/ambivalenzen-modern
 er-verwaltung-wissenschaftliche-perspektiven-auf-buerokratie-und-ihre-kriti
 k-tagung/
END:VEVENT
BEGIN:VTIMEZONE
TZID:Europe/Berlin
BEGIN:STANDARD
TZOFFSETFROM:+0200
TZOFFSETTO:+0100
DTSTART:20251026T010000
TZNAME:CET
END:STANDARD
END:VTIMEZONE
END:VCALENDAR
