BEGIN:VCALENDAR
VERSION:2.0
PRODID:-//Events | FID-Recht//NONSGML Events//EN
CALSCALE:GREGORIAN
X-ORIGINAL-URL:https://events.intrecht.de/termine/
X-WR-CALDESC:Events | FID-Recht - Events
BEGIN:VEVENT
UID:20210124T1332Z-1611495164.12-EO-2986-1@172.16.200.141
STATUS:CONFIRMED
DTSTAMP:20260425T132524Z
CREATED:20210122T170726Z
LAST-MODIFIED:20210122T170726Z
DTSTART;VALUE=DATE:20210228
DTEND;VALUE=DATE:20210228
SUMMARY: Alternative Realities\, Conspiracy Theory\, and the Constitutional
  and Democratic Order (Journal of Law and Public Policy Spring Virtual Symp
 osium) (CfP)
DESCRIPTION: 16.4.2021\, Online (Frist für Einreichungen: 28.2.2021) https:
 //www.stthomas.edu/law/life/journals/jlpp/  
X-ALT-DESC;FMTTYPE=text/html: <p>16.4.2021\, Online (Frist für Einreichunge
 n: 28.2.2021)</p><p><a href="https://www.stthomas.edu/law/life/journals/jlp
 p/">https://www.stthomas.edu/law/life/journals/jlpp/</a></p><p> </p><p>[av_
 button label='iCal-Export' link='./feed/eo-events' link_target='' size='sma
 ll' position='center' label_display='' title_attr='' icon_select='yes' icon
 ='ue85b' font='entypo-fontello' color='custom' custom_bg='#b5123e' custom_f
 ont='#ffffff' av_uid='' id='' custom_class='' admin_preview_bg='']</p>
CATEGORIES:Öffentliches Recht
LOCATION:Online
GEO:0.000000;0.000000
ORGANIZER;CN="ViFa-Recht":MAILTO:vifa-recht@sbb.spk-berlin.de
URL;VALUE=URI:https://events.intrecht.de/termine/termin/alternative-realiti
 es-conspiracy-theory-and-the-constitutional-and-democratic-order-journal-of
 -law-and-public-policy-spring-virtual-symposium-cfp/
END:VEVENT
BEGIN:VTIMEZONE
TZID:Europe/Berlin
BEGIN:STANDARD
TZOFFSETFROM:+0200
TZOFFSETTO:+0100
DTSTART:20201025T010000
TZNAME:CET
END:STANDARD
END:VTIMEZONE
END:VCALENDAR
