BEGIN:VCALENDAR
VERSION:2.0
PRODID:-//Events | FID-Recht//NONSGML Events//EN
CALSCALE:GREGORIAN
X-ORIGINAL-URL:https://events.intrecht.de/termine/
X-WR-CALDESC:Events | FID-Recht - Events
BEGIN:VEVENT
UID:20200603T1418Z-1591193923.3362-EO-587-1@172.16.200.141
STATUS:CONFIRMED
DTSTAMP:20260426T043408Z
CREATED:20230801T120139Z
LAST-MODIFIED:20230801T120139Z
DTSTART;VALUE=DATE:20231116
DTEND;VALUE=DATE:20231117
SUMMARY: Alternative Dispute Resolution in International and EU Law – Recen
 t Trends (Hybrid Conference)
DESCRIPTION: 16.11.2023 / Online und Ferrara https://www.eventbrite.it/e/bi
 glietti-alternative-dispute-resolution-in-international-and-eu-law-recent-t
 rends-655830114527
X-ALT-DESC;FMTTYPE=text/html: <p>16.11.2023 / Online und Ferrara</p><p><a h
 ref="https://www.eventbrite.it/e/biglietti-alternative-dispute-resolution-i
 n-international-and-eu-law-recent-trends-655830114527">https://www.eventbri
 te.it/e/biglietti-alternative-dispute-resolution-in-international-and-eu-la
 w-recent-trends-655830114527</a></p><p>[av_button label='iCal-Export' link=
 './feed/eo-events' link_target='' size='small' position='center' label_disp
 lay='' title_attr='' icon_select='yes' icon='ue85b' font='entypo-fontello' 
 color='custom' custom_bg='#b5123e' custom_font='#ffffff' av_uid='' id='' cu
 stom_class='' admin_preview_bg='']</p>
CATEGORIES:Europäisches / Internationales Recht
LOCATION:Online
GEO:0.000000;0.000000
ORGANIZER;CN="ViFa-Recht":MAILTO:vifa-recht@sbb.spk-berlin.de
URL;VALUE=URI:https://events.intrecht.de/termine/termin/alternative-dispute
 -resolution-in-international-and-eu-law-recent-trends-hybrid-conference/
END:VEVENT
BEGIN:VTIMEZONE
TZID:Europe/Berlin
BEGIN:STANDARD
TZOFFSETFROM:+0200
TZOFFSETTO:+0100
DTSTART:20231029T010000
TZNAME:CET
END:STANDARD
END:VTIMEZONE
END:VCALENDAR
