BEGIN:VCALENDAR
VERSION:2.0
PRODID:-//Events | FID-Recht//NONSGML Events//EN
CALSCALE:GREGORIAN
X-ORIGINAL-URL:https://events.intrecht.de/termine/
X-WR-CALDESC:Events | FID-Recht - Events
BEGIN:VEVENT
UID:20230322T2158Z-1679522333.5979-EO-8119-1@172.16.200.151
STATUS:CONFIRMED
DTSTAMP:20260425T234755Z
CREATED:20230123T122202Z
LAST-MODIFIED:20230123T122202Z
DTSTART;VALUE=DATE:20230210
DTEND;VALUE=DATE:20230211
SUMMARY: Als moderne Nomadin um die Welt – Mein Leben bei den Vereinten Nat
 ionen (Buchlesung)
DESCRIPTION: 10.2.2023 / Berlin https://dgvn.de/aktivitaeten/einzelansicht/
 buchlesung-als-moderne-nomadin-um-die-welt  
X-ALT-DESC;FMTTYPE=text/html: <p>10.2.2023 / Berlin</p><p><a href="https://
 dgvn.de/aktivitaeten/einzelansicht/buchlesung-als-moderne-nomadin-um-die-we
 lt">https://dgvn.de/aktivitaeten/einzelansicht/buchlesung-als-moderne-nomad
 in-um-die-welt</a></p><p> </p><p>[av_button label='iCal-Export' link='./fee
 d/eo-events' link_target='' size='small' position='center' label_display=''
  title_attr='' icon_select='yes' icon='ue85b' font='entypo-fontello' color=
 'custom' custom_bg='#b5123e' custom_font='#ffffff' av_uid='' id='' custom_c
 lass='' admin_preview_bg='']</p>
CATEGORIES:Europäisches / Internationales Recht
LOCATION:Inland
GEO:0.000000;0.000000
ORGANIZER;CN="ViFa-Recht":MAILTO:vifa-recht@sbb.spk-berlin.de
URL;VALUE=URI:https://events.intrecht.de/termine/termin/als-moderne-nomadin
 -um-die-welt-mein-leben-bei-den-vereinten-nationen-buchlesung/
END:VEVENT
BEGIN:VTIMEZONE
TZID:Europe/Berlin
BEGIN:STANDARD
TZOFFSETFROM:+0200
TZOFFSETTO:+0100
DTSTART:20221030T010000
TZNAME:CET
END:STANDARD
END:VTIMEZONE
END:VCALENDAR
