BEGIN:VCALENDAR
VERSION:2.0
PRODID:-//Events | FID-Recht//NONSGML Events//EN
CALSCALE:GREGORIAN
X-ORIGINAL-URL:https://events.intrecht.de/termine/
X-WR-CALDESC:Events | FID-Recht - Events
BEGIN:VEVENT
UID:20220202T0327Z-1643772478.9711-EO-4504-1@172.16.200.141
STATUS:CONFIRMED
DTSTAMP:20260421T115620Z
CREATED:20220127T204205Z
LAST-MODIFIED:20220127T204205Z
DTSTART;VALUE=DATE:20220209
DTEND;VALUE=DATE:20220210
SUMMARY: Allgemeine Rechtsgrundsätze in der Arbeit der ILC und in der Recht
 sprechung des IGH – Aktuelle Entwicklungen (mit Janina Barkholdt) (Online-V
 ortrag)
DESCRIPTION: 9.2.2022\, Online Willkommen und Termine — Walther-Schücking-I
 nstitut für Internationales Recht (WSI) (uni-kiel.de)  
X-ALT-DESC;FMTTYPE=text/html: <p>9.2.2022\, Online</p><p><a href="https://w
 ww.wsi.uni-kiel.de/de/veranstaltungen/voelkerrechtliche-tagesthemen/willkom
 men-und-termine">Willkommen und Termine — Walther-Schücking-Institut für In
 ternationales Recht (WSI) (uni-kiel.de)</a></p><p> </p><p>[av_button label=
 'iCal-Export' link='./feed/eo-events' link_target='' size='small' position=
 'center' label_display='' title_attr='' icon_select='yes' icon='ue85b' font
 ='entypo-fontello' color='custom' custom_bg='#b5123e' custom_font='#ffffff'
  av_uid='' id='' custom_class='' admin_preview_bg='']</p>
CATEGORIES:Europäisches / Internationales Recht
LOCATION:Online
GEO:0.000000;0.000000
ORGANIZER;CN="ViFa-Recht":MAILTO:vifa-recht@sbb.spk-berlin.de
URL;VALUE=URI:https://events.intrecht.de/termine/termin/allgemeine-rechtsgr
 undsaetze-in-der-arbeit-der-ilc-und-in-der-rechtsprechung-des-igh-aktuelle-
 entwicklungen-mit-janina-barkholdt-online-vortrag/
END:VEVENT
BEGIN:VTIMEZONE
TZID:Europe/Berlin
BEGIN:STANDARD
TZOFFSETFROM:+0200
TZOFFSETTO:+0100
DTSTART:20211031T010000
TZNAME:CET
END:STANDARD
END:VTIMEZONE
END:VCALENDAR
