BEGIN:VCALENDAR
VERSION:2.0
PRODID:-//Events | FID-Recht//NONSGML Events//EN
CALSCALE:GREGORIAN
X-ORIGINAL-URL:https://events.intrecht.de/termine/
X-WR-CALDESC:Events | FID-Recht - Events
BEGIN:VEVENT
UID:20220405T1144Z-1649159085.8667-EO-6428-1@172.16.200.141
STATUS:CONFIRMED
DTSTAMP:20260420T111804Z
CREATED:20220404T165058Z
LAST-MODIFIED:20220422T085753Z
DTSTART;TZID=Europe/Berlin:20220426T190000
DTEND;TZID=Europe/Berlin:20220426T210000
SUMMARY: Alles Genossenschaften oder was? Juristisches und nicht allzu Pers
 önliches zu Gierkes Lehre von der juristischen Person (mit Jan Thiessen) (V
 ortrag)
DESCRIPTION: 26.4.2022\, Berlin Alles Genossenschaft oder was? Juristisches
  und nicht allzu Persönliches zu Gierkes Lehre von der juristischen Person 
 (rechtimkontext.de)  
X-ALT-DESC;FMTTYPE=text/html: <p>26.4.2022\, Berlin</p><p><a href="https://
 www.rechtimkontext.de/veranstaltungen/veranstaltung/alles-genossenschaft-od
 er-was-juristisches-und-nicht-allzu-persoenliches-zu-gierkes-lehre-von-der-
 ju/">Alles Genossenschaft oder was? Juristisches und nicht allzu Persönlich
 es zu Gierkes Lehre von der juristischen Person (rechtimkontext.de)</a></p>
 <p> </p><p>[av_button label='iCal-Export' link='./feed/eo-events' link_targ
 et='' size='small' position='center' label_display='' title_attr='' icon_se
 lect='yes' icon='ue85b' font='entypo-fontello' color='custom' custom_bg='#b
 5123e' custom_font='#ffffff' av_uid='' id='' custom_class='' admin_preview_
 bg='']</p>
CATEGORIES:Recht interdisziplinär
LOCATION:Online
GEO:0.000000;0.000000
ORGANIZER;CN="ViFa-Recht":MAILTO:vifa-recht@sbb.spk-berlin.de
URL;VALUE=URI:https://events.intrecht.de/termine/termin/alles-genossenschaf
 ten-oder-was-juristisches-und-nicht-allzu-persoenliches-zu-gierkes-lehre-vo
 n-der-juristischen-person-mit-jan-thiessen-online-vortrag/
END:VEVENT
BEGIN:VTIMEZONE
TZID:Europe/Berlin
BEGIN:DAYLIGHT
TZOFFSETFROM:+0100
TZOFFSETTO:+0200
DTSTART:20220327T010000
TZNAME:CEST
END:DAYLIGHT
END:VTIMEZONE
END:VCALENDAR
