BEGIN:VCALENDAR
VERSION:2.0
PRODID:-//Events | FID-Recht//NONSGML Events//EN
CALSCALE:GREGORIAN
X-ORIGINAL-URL:https://events.intrecht.de/termine/
X-WR-CALDESC:Events | FID-Recht - Events
BEGIN:VEVENT
UID:20230109T1511Z-1673277081.286-EO-7953-1@172.16.200.151
STATUS:CONFIRMED
DTSTAMP:20260421T133343Z
CREATED:20230105T120844Z
LAST-MODIFIED:20230105T120844Z
DTSTART;VALUE=DATE:20230203
DTEND;VALUE=DATE:20230204
SUMMARY: Algorithmic Tools in the UK Criminal Justice System: Practice\, Tr
 ansparency\, and Regulation (Vortrag)
DESCRIPTION: 3.2.2023 / Online https://lts6291.wixsite.com/mplts/event-deta
 ils/miri-zilka-algorithmic-tools-in-the-uk-criminal-justice-system-practice
 -transparency-and-regulation  
X-ALT-DESC;FMTTYPE=text/html: <p>3.2.2023 / Online</p><p><a href="https://l
 ts6291.wixsite.com/mplts/event-details/miri-zilka-algorithmic-tools-in-the-
 uk-criminal-justice-system-practice-transparency-and-regulation">https://lt
 s6291.wixsite.com/mplts/event-details/miri-zilka-algorithmic-tools-in-the-u
 k-criminal-justice-system-practice-transparency-and-regulation</a></p><p> <
 /p><p>[av_button label='iCal-Export' link='./feed/eo-events' link_target=''
  size='small' position='center' label_display='' title_attr='' icon_select=
 'yes' icon='ue85b' font='entypo-fontello' color='custom' custom_bg='#b5123e
 ' custom_font='#ffffff' av_uid='' id='' custom_class='' admin_preview_bg=''
 ]</p>
CATEGORIES:Recht interdisziplinär
LOCATION:Online
GEO:0.000000;0.000000
ORGANIZER;CN="ViFa-Recht":MAILTO:vifa-recht@sbb.spk-berlin.de
URL;VALUE=URI:https://events.intrecht.de/termine/termin/algorithmic-tools-i
 n-the-uk-criminal-justice-system-practice-transparency-and-regulation-vortr
 ag/
END:VEVENT
BEGIN:VTIMEZONE
TZID:Europe/Berlin
BEGIN:STANDARD
TZOFFSETFROM:+0200
TZOFFSETTO:+0100
DTSTART:20221030T010000
TZNAME:CET
END:STANDARD
END:VTIMEZONE
END:VCALENDAR
