BEGIN:VCALENDAR
VERSION:2.0
PRODID:-//Events | FID-Recht//NONSGML Events//EN
CALSCALE:GREGORIAN
X-ORIGINAL-URL:https://events.intrecht.de/termine/
X-WR-CALDESC:Events | FID-Recht - Events
BEGIN:VEVENT
UID:20201016T2114Z-1602882867.3177-EO-1798-1@172.16.200.141
STATUS:CONFIRMED
DTSTAMP:20260421T102918Z
CREATED:20201012T094633Z
LAST-MODIFIED:20201021T124749Z
DTSTART;VALUE=DATE:20201029
DTEND;VALUE=DATE:20201031
SUMMARY: Aktuelle Entwicklungen im deutschen und kolumbianischen Recht unte
 r besonderer Berücksichtigung der Corona-Gesetzgebung (Online-Tagung der De
 utsch-Kolumbianischen Juristenvereinigung)
DESCRIPTION: 29.-30.10.2020\, Online   https://www.stoeber.jura.uni-kiel.de
 /de/aktuelles/downloads/online-tagung-dkjv    
X-ALT-DESC;FMTTYPE=text/html: <p>29.-30.10.2020\, Online</p><p> </p><p><a h
 ref="https://www.stoeber.jura.uni-kiel.de/de/aktuelles/downloads/online-tag
 ung-dkjv">https://www.stoeber.jura.uni-kiel.de/de/aktuelles/downloads/onlin
 e-tagung-dkjv</a></p><p> </p><p> </p><p>[av_button label='iCal-Export' link
 ='./feed/eo-events' link_target='' size='small' position='center' label_dis
 play='' title_attr='' icon_select='yes' icon='ue85b' font='entypo-fontello'
  color='custom' custom_bg='#b5123e' custom_font='#ffffff' av_uid='' id='' c
 ustom_class='' admin_preview_bg='']</p>
CATEGORIES:Öffentliches Recht,Recht interdisziplinär,Zivilrecht
LOCATION:Online
GEO:0.000000;0.000000
ORGANIZER;CN="Frontend-Submission":MAILTO:florian.schwalenberg@sbb.spk-berl
 in.de
URL;VALUE=URI:https://events.intrecht.de/termine/termin/aktuellen-entwicklu
 ngen-im-deutschen-und-kolumbianischen-recht-unter-besonderer-beruecksichtig
 ung-der-corona-gesetzgebung-online-tagung-der-deutsch-kolumbianischen-juris
 tenvereinigung/
END:VEVENT
BEGIN:VTIMEZONE
TZID:Europe/Berlin
BEGIN:STANDARD
TZOFFSETFROM:+0200
TZOFFSETTO:+0100
DTSTART:20201025T010000
TZNAME:CET
END:STANDARD
END:VTIMEZONE
END:VCALENDAR
