BEGIN:VCALENDAR
VERSION:2.0
PRODID:-//Events | FID-Recht//NONSGML Events//EN
CALSCALE:GREGORIAN
X-ORIGINAL-URL:https://events.intrecht.de/termine/
X-WR-CALDESC:Events | FID-Recht - Events
BEGIN:VEVENT
UID:20200603T1418Z-1591193923.3362-EO-587-1@172.16.200.141
STATUS:CONFIRMED
DTSTAMP:20260425T145839Z
CREATED:20231017T143159Z
LAST-MODIFIED:20231017T143159Z
DTSTART;VALUE=DATE:20231018
DTEND;VALUE=DATE:20231019
SUMMARY: Aktuelle Entwicklungen im Nahostkonflikt: Eine völkerrechtliche Ei
 nordnung (Vortrag / Völkerrechtliche Tagesthemen)
DESCRIPTION: 18.10.2023 / Online und Kiel https://www.wsi.uni-kiel.de/de/ve
 ranstaltungen/voelkerrechtliche-tagesthemen/voelkerrechtliche-tagesthemen-s
 onderausgabe-aktuelle-entwicklungen-im-nahostkonflikt-eine-voelkerrechtlich
 e-einordnung-mit-andreas-von-arnauld
X-ALT-DESC;FMTTYPE=text/html: <p>18.10.2023 / Online und Kiel</p><p><a href
 ="https://www.wsi.uni-kiel.de/de/veranstaltungen/voelkerrechtliche-tagesthe
 men/voelkerrechtliche-tagesthemen-sonderausgabe-aktuelle-entwicklungen-im-n
 ahostkonflikt-eine-voelkerrechtliche-einordnung-mit-andreas-von-arnauld">ht
 tps://www.wsi.uni-kiel.de/de/veranstaltungen/voelkerrechtliche-tagesthemen/
 voelkerrechtliche-tagesthemen-sonderausgabe-aktuelle-entwicklungen-im-nahos
 tkonflikt-eine-voelkerrechtliche-einordnung-mit-andreas-von-arnauld</a></p>
 <p>[av_button label='iCal-Export' link='./feed/eo-events' link_target='' si
 ze='small' position='center' label_display='' title_attr='' icon_select='ye
 s' icon='ue85b' font='entypo-fontello' color='custom' custom_bg='#b5123e' c
 ustom_font='#ffffff' av_uid='' id='' custom_class='' admin_preview_bg='']</
 p>
CATEGORIES:Europäisches / Internationales Recht
LOCATION:Online
GEO:0.000000;0.000000
ORGANIZER;CN="ViFa-Recht":MAILTO:vifa-recht@sbb.spk-berlin.de
URL;VALUE=URI:https://events.intrecht.de/termine/termin/aktuelle-entwicklun
 gen-im-nahostkonflikt-eine-voelkerrechtliche-einordnung-vortrag-voelkerrech
 tliche-tagesthemen/
END:VEVENT
BEGIN:VTIMEZONE
TZID:Europe/Berlin
BEGIN:DAYLIGHT
TZOFFSETFROM:+0100
TZOFFSETTO:+0200
DTSTART:20230326T010000
TZNAME:CEST
END:DAYLIGHT
END:VTIMEZONE
END:VCALENDAR
