BEGIN:VCALENDAR
VERSION:2.0
PRODID:-//Events | FID-Recht//NONSGML Events//EN
CALSCALE:GREGORIAN
X-ORIGINAL-URL:https://events.intrecht.de/termine/
X-WR-CALDESC:Events | FID-Recht - Events
BEGIN:VEVENT
UID:20200603T1418Z-1591193923.3362-EO-587-1@172.16.200.141
STATUS:CONFIRMED
DTSTAMP:20260422T111105Z
CREATED:20240301T143216Z
LAST-MODIFIED:20240301T143216Z
DTSTART;VALUE=DATE:20240313
DTEND;VALUE=DATE:20240314
SUMMARY: Aktuelle Entwicklungen im japanischen Recht (Symposium)
DESCRIPTION: 13.3.2024 / Hamburg (Anmeldefrist: 11.3.2024) https://events.m
 pipriv.de/aktuelle_entwicklungen_im_japanischen_recht_13_03_2024
X-ALT-DESC;FMTTYPE=text/html: <p>13.3.2024 / Hamburg <strong>(Anmeldefrist:
  11.3.2024)</strong></p><p><a href="https://events.mpipriv.de/aktuelle_entw
 icklungen_im_japanischen_recht_13_03_2024">https://events.mpipriv.de/aktuel
 le_entwicklungen_im_japanischen_recht_13_03_2024</a></p><p>[av_button label
 ='iCal-Export' link='./feed/eo-events' link_target='' size='small' position
 ='center' label_display='' title_attr='' icon_select='yes' icon='ue85b' fon
 t='entypo-fontello' color='custom' custom_bg='#b5123e' custom_font='#ffffff
 ' av_uid='' id='' custom_class='' admin_preview_bg='']</p>
CATEGORIES:Zivilrecht
LOCATION:Inland
GEO:0.000000;0.000000
ORGANIZER;CN="ViFa-Recht":MAILTO:vifa-recht@sbb.spk-berlin.de
URL;VALUE=URI:https://events.intrecht.de/termine/termin/aktuelle-entwicklun
 gen-im-japanischen-recht-symposium/
END:VEVENT
BEGIN:VTIMEZONE
TZID:Europe/Berlin
BEGIN:STANDARD
TZOFFSETFROM:+0200
TZOFFSETTO:+0100
DTSTART:20231029T010000
TZNAME:CET
END:STANDARD
END:VTIMEZONE
END:VCALENDAR
