BEGIN:VCALENDAR
VERSION:2.0
PRODID:-//Events | FID-Recht//NONSGML Events//EN
CALSCALE:GREGORIAN
X-ORIGINAL-URL:https://events.intrecht.de/termine/
X-WR-CALDESC:Events | FID-Recht - Events
BEGIN:VEVENT
UID:20200603T1418Z-1591193923.3362-EO-587-1@172.16.200.141
STATUS:CONFIRMED
DTSTAMP:20260422T211807Z
CREATED:20250110T143435Z
LAST-MODIFIED:20250110T143435Z
DTSTART;VALUE=DATE:20251008
DTEND;VALUE=DATE:20251011
SUMMARY: Aktivistisches Strafrecht? Wie politisch dürfen Strafrecht und sei
 ne Wissenschaft sein? (Tagung des Jungen Strafrechts)
DESCRIPTION: 8.-10.10.2025 / Freiburg i.Br. (Einreichungsfrist: 1.4.2025) h
 ttps://www.jungesstrafrecht.de/
X-ALT-DESC;FMTTYPE=text/html: <p>8.-10.10.2025 / Freiburg i.Br. <strong>(Ei
 nreichungsfrist: 1.4.2025)</strong></p><p><a href="https://www.jungesstrafr
 echt.de/">https://www.jungesstrafrecht.de/</a></p><p>[av_button label='iCal
 -Export' link='./feed/eo-events' link_target='' size='small' position='cent
 er' label_display='' title_attr='' icon_select='yes' icon='ue85b' font='ent
 ypo-fontello' color='custom' custom_bg='#b5123e' custom_font='#ffffff' av_u
 id='' id='' custom_class='' admin_preview_bg='']</p>
CATEGORIES:Strafrecht
LOCATION:Inland
GEO:0.000000;0.000000
ORGANIZER;CN="ViFa-Recht":MAILTO:vifa-recht@sbb.spk-berlin.de
URL;VALUE=URI:https://events.intrecht.de/termine/termin/aktivistisches-stra
 frecht-wie-politisch-duerfen-strafrecht-und-seine-wissenschaft-sein-tagung-
 des-jungen-strafrechts/
END:VEVENT
BEGIN:VTIMEZONE
TZID:Europe/Berlin
BEGIN:DAYLIGHT
TZOFFSETFROM:+0100
TZOFFSETTO:+0200
DTSTART:20250330T010000
TZNAME:CEST
END:DAYLIGHT
END:VTIMEZONE
END:VCALENDAR
