BEGIN:VCALENDAR
VERSION:2.0
PRODID:-//Events | FID-Recht//NONSGML Events//EN
CALSCALE:GREGORIAN
X-ORIGINAL-URL:https://events.intrecht.de/termine/
X-WR-CALDESC:Events | FID-Recht - Events
BEGIN:VEVENT
UID:20200603T1418Z-1591193923.3362-EO-587-1@172.16.200.141
STATUS:CONFIRMED
DTSTAMP:20260423T034515Z
CREATED:20240905T154116Z
LAST-MODIFIED:20240905T154116Z
DTSTART;VALUE=DATE:20240910
DTEND;VALUE=DATE:20240911
SUMMARY: AjV-Stammtisch Berlin (Arbeitskreis junger Völkerrechtswissenschaf
 tler*innen)
DESCRIPTION: 10.9.2024 / Berlin https://voelkerrechtsblog.org/events/ajv-st
 ammtisch-berlin/
X-ALT-DESC;FMTTYPE=text/html: <p>10.9.2024 / Berlin</p><p><a href="https://
 voelkerrechtsblog.org/events/ajv-stammtisch-berlin/">https://voelkerrechtsb
 log.org/events/ajv-stammtisch-berlin/</a></p><p>[av_button label='iCal-Expo
 rt' link='./feed/eo-events' link_target='' size='small' position='center' l
 abel_display='' title_attr='' icon_select='yes' icon='ue85b' font='entypo-f
 ontello' color='custom' custom_bg='#b5123e' custom_font='#ffffff' av_uid=''
  id='' custom_class='' admin_preview_bg='']</p>
CATEGORIES:Europäisches / Internationales Recht
LOCATION:Inland
GEO:0.000000;0.000000
ORGANIZER;CN="ViFa-Recht":MAILTO:vifa-recht@sbb.spk-berlin.de
URL;VALUE=URI:https://events.intrecht.de/termine/termin/ajv-stammtisch-berl
 in-arbeitskreis-junger-voelkerrechtswissenschaftlerinnen/
END:VEVENT
BEGIN:VTIMEZONE
TZID:Europe/Berlin
BEGIN:DAYLIGHT
TZOFFSETFROM:+0100
TZOFFSETTO:+0200
DTSTART:20240331T010000
TZNAME:CEST
END:DAYLIGHT
END:VTIMEZONE
END:VCALENDAR
