BEGIN:VCALENDAR
VERSION:2.0
PRODID:-//Events | FID-Recht//NONSGML Events//EN
CALSCALE:GREGORIAN
X-ORIGINAL-URL:https://events.intrecht.de/termine/
X-WR-CALDESC:Events | FID-Recht - Events
BEGIN:VEVENT
UID:20211130T1003Z-1638266618.7233-EO-4980-1@172.16.200.141
STATUS:CONFIRMED
DTSTAMP:20260422T143248Z
CREATED:20211126T225321Z
LAST-MODIFIED:20211126T225321Z
DTSTART;VALUE=DATE:20211206
DTEND;VALUE=DATE:20211207
SUMMARY: AI as a Product? Algorithmic Credit Scoring as a Test Case for Reg
 ulation (with Katja Langenbucher) ((Online-)Vortrag)
DESCRIPTION: 6.12.2021\, Hamburg/Online NAIL Research Seminar #3 – Universi
 tät Hamburg (uni-hamburg.de)  
X-ALT-DESC;FMTTYPE=text/html: <p>6.12.2021\, Hamburg/Online</p><p><a href="
 https://www.jura.uni-hamburg.de/en/forschung/institute-forschungsstellen-un
 d-zentren/institut-recht-oekonomik/internationale-kooperationen/nail/events
 -nail/2021-12-06.html">NAIL Research Seminar #3 - Universität Hamburg (uni-
 hamburg.de)</a></p><p> </p><p>[av_button label='iCal-Export' link='./feed/e
 o-events' link_target='' size='small' position='center' label_display='' ti
 tle_attr='' icon_select='yes' icon='ue85b' font='entypo-fontello' color='cu
 stom' custom_bg='#b5123e' custom_font='#ffffff' av_uid='' id='' custom_clas
 s='' admin_preview_bg='']</p>
CATEGORIES:Recht interdisziplinär
LOCATION:Online
GEO:0.000000;0.000000
ORGANIZER;CN="ViFa-Recht":MAILTO:vifa-recht@sbb.spk-berlin.de
URL;VALUE=URI:https://events.intrecht.de/termine/termin/ai-as-a-product-alg
 orithmic-credit-scoring-as-a-test-case-for-regulation-with-katja-langenbuch
 er-online-vortrag/
END:VEVENT
BEGIN:VTIMEZONE
TZID:Europe/Berlin
BEGIN:STANDARD
TZOFFSETFROM:+0200
TZOFFSETTO:+0100
DTSTART:20211031T010000
TZNAME:CET
END:STANDARD
END:VTIMEZONE
END:VCALENDAR
