BEGIN:VCALENDAR
VERSION:2.0
PRODID:-//Events | FID-Recht//NONSGML Events//EN
CALSCALE:GREGORIAN
X-ORIGINAL-URL:https://events.intrecht.de/termine/
X-WR-CALDESC:Events | FID-Recht - Events
BEGIN:VEVENT
UID:20230127T2314Z-1674861241.4644-EO-7970-1@172.16.200.151
STATUS:CONFIRMED
DTSTAMP:20260421T165905Z
CREATED:20230106T072221Z
LAST-MODIFIED:20230106T072221Z
DTSTART;VALUE=DATE:20230119
DTEND;VALUE=DATE:20230120
SUMMARY: Afternoon Talk on Islamic Law: The Theocratic Agency of the Irania
 n Legal System at the Legislative and Judicial Levels
DESCRIPTION: 19.1.2023 / Hamburg https://events.mpipriv.de/afternoon-talk-b
 ahman-khodadadi-19-01-2023  
X-ALT-DESC;FMTTYPE=text/html: <p>19.1.2023 / Hamburg</p><p><a href="https:/
 /events.mpipriv.de/afternoon-talk-bahman-khodadadi-19-01-2023">https://even
 ts.mpipriv.de/afternoon-talk-bahman-khodadadi-19-01-2023</a></p><p> </p><p>
 [av_button label='iCal-Export' link='./feed/eo-events' link_target='' size=
 'small' position='center' label_display='' title_attr='' icon_select='yes' 
 icon='ue85b' font='entypo-fontello' color='custom' custom_bg='#b5123e' cust
 om_font='#ffffff' av_uid='' id='' custom_class='' admin_preview_bg='']</p>
CATEGORIES:Recht interdisziplinär
LOCATION:Inland
GEO:0.000000;0.000000
ORGANIZER;CN="ViFa-Recht":MAILTO:vifa-recht@sbb.spk-berlin.de
URL;VALUE=URI:https://events.intrecht.de/termine/termin/afternoon-talk-on-i
 slamic-law-the-theocratic-agency-of-the-iranian-legal-system-at-the-legisla
 tive-and-judicial-levels/
END:VEVENT
BEGIN:VTIMEZONE
TZID:Europe/Berlin
BEGIN:STANDARD
TZOFFSETFROM:+0200
TZOFFSETTO:+0100
DTSTART:20221030T010000
TZNAME:CET
END:STANDARD
END:VTIMEZONE
END:VCALENDAR
