BEGIN:VCALENDAR
VERSION:2.0
PRODID:-//Events | FID-Recht//NONSGML Events//EN
CALSCALE:GREGORIAN
X-ORIGINAL-URL:https://events.intrecht.de/termine/
X-WR-CALDESC:Events | FID-Recht - Events
BEGIN:VEVENT
UID:20230418T1222Z-1681820532.2368-EO-12706-1@172.16.200.151
STATUS:CONFIRMED
DTSTAMP:20260425T132433Z
CREATED:20230209T082114Z
LAST-MODIFIED:20230209T082114Z
DTSTART;VALUE=DATE:20230223
DTEND;VALUE=DATE:20230224
SUMMARY: Afternoon Talk on Islamic Law: Is Child Marriage an Islamic Practi
 ce?
DESCRIPTION: 23.2.2023 / Online und Hamburg https://events.mpipriv.de/after
 noon-talk-hoko-horii-23-02-2023  
X-ALT-DESC;FMTTYPE=text/html: <p>23.2.2023 / Online und Hamburg</p><p><a hr
 ef="https://events.mpipriv.de/afternoon-talk-hoko-horii-23-02-2023">https:/
 /events.mpipriv.de/afternoon-talk-hoko-horii-23-02-2023</a></p><p> </p><p>[
 av_button label='iCal-Export' link='./feed/eo-events' link_target='' size='
 small' position='center' label_display='' title_attr='' icon_select='yes' i
 con='ue85b' font='entypo-fontello' color='custom' custom_bg='#b5123e' custo
 m_font='#ffffff' av_uid='' id='' custom_class='' admin_preview_bg='']</p>
CATEGORIES:Recht interdisziplinär
LOCATION:Online
GEO:0.000000;0.000000
ORGANIZER;CN="ViFa-Recht":MAILTO:vifa-recht@sbb.spk-berlin.de
URL;VALUE=URI:https://events.intrecht.de/termine/termin/afternoon-talk-on-i
 slamic-law-is-child-marriage-an-islamic-practice/
END:VEVENT
BEGIN:VTIMEZONE
TZID:Europe/Berlin
BEGIN:STANDARD
TZOFFSETFROM:+0200
TZOFFSETTO:+0100
DTSTART:20221030T010000
TZNAME:CET
END:STANDARD
END:VTIMEZONE
END:VCALENDAR
