BEGIN:VCALENDAR
VERSION:2.0
PRODID:-//Events | FID-Recht//NONSGML Events//EN
CALSCALE:GREGORIAN
X-ORIGINAL-URL:https://events.intrecht.de/termine/
X-WR-CALDESC:Events | FID-Recht - Events
BEGIN:VEVENT
UID:20200603T1418Z-1591193923.3362-EO-587-1@172.16.200.141
STATUS:CONFIRMED
DTSTAMP:20260422T225237Z
CREATED:20250507T120403Z
LAST-MODIFIED:20250507T120445Z
DTSTART;VALUE=DATE:20250919
DTEND;VALUE=DATE:20250921
SUMMARY: After the Backlash: The Future of Arbitration in the Settlement of
  Investment\, Trade and Human Rights Disputes (Workshop)
DESCRIPTION: 19.-20.9.2025 / Québec (Einreichungsfrist: 15.5.2025) https://
 www.esei.ulaval.ca/sites/esei.ulaval.ca/files/eti/evenements/Call%20for%20P
 roposals_2025-03-11.pdf
X-ALT-DESC;FMTTYPE=text/html: <p>19.-20.9.2025 / Québec <strong>(Einreichun
 gsfrist: 15.5.2025)</strong></p><p><a href="https://www.esei.ulaval.ca/site
 s/esei.ulaval.ca/files/eti/evenements/Call%20for%20Proposals_2025-03-11.pdf
 ">https://www.esei.ulaval.ca/sites/esei.ulaval.ca/files/eti/evenements/Call
 %20for%20Proposals_2025-03-11.pdf</a></p><p>[av_button label='iCal-Export' 
 link='./feed/eo-events' link_target='' size='small' position='center' label
 _display='' title_attr='' icon_select='yes' icon='ue85b' font='entypo-fonte
 llo' color='custom' custom_bg='#b5123e' custom_font='#ffffff' av_uid='' id=
 '' custom_class='' admin_preview_bg='']</p>
CATEGORIES:Recht interdisziplinär
LOCATION:Ausland
GEO:0.000000;0.000000
ORGANIZER;CN="ViFa-Recht":MAILTO:vifa-recht@sbb.spk-berlin.de
URL;VALUE=URI:https://events.intrecht.de/termine/termin/after-the-backlash-
 the-future-of-arbitration-in-the-settlement-of-investment-trade-and-human-r
 ights-disputes-workshop/
END:VEVENT
BEGIN:VTIMEZONE
TZID:Europe/Berlin
BEGIN:DAYLIGHT
TZOFFSETFROM:+0100
TZOFFSETTO:+0200
DTSTART:20250330T010000
TZNAME:CEST
END:DAYLIGHT
END:VTIMEZONE
END:VCALENDAR
