BEGIN:VCALENDAR
VERSION:2.0
PRODID:-//Events | FID-Recht//NONSGML Events//EN
CALSCALE:GREGORIAN
X-ORIGINAL-URL:https://events.intrecht.de/termine/
X-WR-CALDESC:Events | FID-Recht - Events
BEGIN:VEVENT
UID:20200603T1418Z-1591193923.3362-EO-587-1@172.16.200.141
STATUS:CONFIRMED
DTSTAMP:20260423T034609Z
CREATED:20250117T150635Z
LAST-MODIFIED:20250117T150635Z
DTSTART;VALUE=DATE:20251017
DTEND;VALUE=DATE:20251019
SUMMARY: Africa\, Culture\, and International Law (Conference)
DESCRIPTION: 17.-18.10.2025 / Maputo (Einreichungsfrist: 21.2.2025) https:/
 /www.afronomicslaw.org/sites/default/files/pdf/14th%20Annual%20Conference%2
 0of%20the%20African%20Society%20of%20International%20Law19.12.2024-2.pdf
X-ALT-DESC;FMTTYPE=text/html: <p>17.-18.10.2025 / Maputo <strong>(Einreichu
 ngsfrist: 21.2.2025)</strong></p><p><a href="https://www.afronomicslaw.org/
 sites/default/files/pdf/14th%20Annual%20Conference%20of%20the%20African%20S
 ociety%20of%20International%20Law19.12.2024-2.pdf">https://www.afronomicsla
 w.org/sites/default/files/pdf/14th%20Annual%20Conference%20of%20the%20Afric
 an%20Society%20of%20International%20Law19.12.2024-2.pdf</a></p><p>[av_butto
 n label='iCal-Export' link='./feed/eo-events' link_target='' size='small' p
 osition='center' label_display='' title_attr='' icon_select='yes' icon='ue8
 5b' font='entypo-fontello' color='custom' custom_bg='#b5123e' custom_font='
 #ffffff' av_uid='' id='' custom_class='' admin_preview_bg='']</p>
CATEGORIES:Europäisches / Internationales Recht
LOCATION:Ausland
GEO:0.000000;0.000000
ORGANIZER;CN="ViFa-Recht":MAILTO:vifa-recht@sbb.spk-berlin.de
URL;VALUE=URI:https://events.intrecht.de/termine/termin/africa-culture-and-
 international-law-conference/
END:VEVENT
BEGIN:VTIMEZONE
TZID:Europe/Berlin
BEGIN:DAYLIGHT
TZOFFSETFROM:+0100
TZOFFSETTO:+0200
DTSTART:20250330T010000
TZNAME:CEST
END:DAYLIGHT
END:VTIMEZONE
END:VCALENDAR
