BEGIN:VCALENDAR
VERSION:2.0
PRODID:-//Events | FID-Recht//NONSGML Events//EN
CALSCALE:GREGORIAN
X-ORIGINAL-URL:https://events.intrecht.de/termine/
X-WR-CALDESC:Events | FID-Recht - Events
BEGIN:VEVENT
UID:20200603T1418Z-1591193923.3362-EO-587-1@172.16.200.141
STATUS:CONFIRMED
DTSTAMP:20260426T031003Z
CREATED:20230628T092653Z
LAST-MODIFIED:20230628T092653Z
DTSTART;VALUE=DATE:20230710
DTEND;VALUE=DATE:20230711
SUMMARY: Advocating Against Gender-Based Violence Through International Law
  (Roundtable)
DESCRIPTION: 10.7.2023 / Online und Mailand https://drive.google.com/file/d
 /1VPBhLDFsRem4X3BOL89Ye1xvKzSyYUVt/view
X-ALT-DESC;FMTTYPE=text/html: <p>10.7.2023 / Online und Mailand</p><p><a hr
 ef="https://drive.google.com/file/d/1VPBhLDFsRem4X3BOL89Ye1xvKzSyYUVt/view"
 >https://drive.google.com/file/d/1VPBhLDFsRem4X3BOL89Ye1xvKzSyYUVt/view</a>
 </p><p>[av_button label='iCal-Export' link='./feed/eo-events' link_target='
 ' size='small' position='center' label_display='' title_attr='' icon_select
 ='yes' icon='ue85b' font='entypo-fontello' color='custom' custom_bg='#b5123
 e' custom_font='#ffffff' av_uid='' id='' custom_class='' admin_preview_bg='
 ']</p>
CATEGORIES:Europäisches / Internationales Recht
LOCATION:Online
GEO:0.000000;0.000000
ORGANIZER;CN="ViFa-Recht":MAILTO:vifa-recht@sbb.spk-berlin.de
URL;VALUE=URI:https://events.intrecht.de/termine/termin/advocating-against-
 gender-based-violence-through-international-law-roundtable/
END:VEVENT
BEGIN:VTIMEZONE
TZID:Europe/Berlin
BEGIN:DAYLIGHT
TZOFFSETFROM:+0100
TZOFFSETTO:+0200
DTSTART:20230326T010000
TZNAME:CEST
END:DAYLIGHT
END:VTIMEZONE
END:VCALENDAR
