BEGIN:VCALENDAR
VERSION:2.0
PRODID:-//Events | FID-Recht//NONSGML Events//EN
CALSCALE:GREGORIAN
X-ORIGINAL-URL:https://events.intrecht.de/termine/
X-WR-CALDESC:Events | FID-Recht - Events
BEGIN:VEVENT
UID:20200603T1418Z-1591193923.3362-EO-587-1@172.16.200.141
STATUS:CONFIRMED
DTSTAMP:20260422T110423Z
CREATED:20240119T174723Z
LAST-MODIFIED:20240119T174723Z
DTSTART;VALUE=DATE:20240530
DTEND;VALUE=DATE:20240601
SUMMARY: Advanced Technologies in Emergencies. The Downfall of the Transpar
 ency Principle in Counter-Terrorism and Warfare? (Workshop)
DESCRIPTION: 30.-31.5.2024 / Madrid (Einreichungsfrist: 31.1.2024) https://
 blog-iacl-aidc.org/cfp/2023/11/21/cfp-advanced-technologies-in-emergencies
X-ALT-DESC;FMTTYPE=text/html: <p>30.-31.5.2024 / Madrid <strong>(Einreichun
 gsfrist: 31.1.2024)</strong></p><p><a href="https://blog-iacl-aidc.org/cfp/
 2023/11/21/cfp-advanced-technologies-in-emergencies">https://blog-iacl-aidc
 .org/cfp/2023/11/21/cfp-advanced-technologies-in-emergencies</a></p><p>[av_
 button label='iCal-Export' link='./feed/eo-events' link_target='' size='sma
 ll' position='center' label_display='' title_attr='' icon_select='yes' icon
 ='ue85b' font='entypo-fontello' color='custom' custom_bg='#b5123e' custom_f
 ont='#ffffff' av_uid='' id='' custom_class='' admin_preview_bg='']</p>
CATEGORIES:Recht interdisziplinär
LOCATION:Ausland
GEO:0.000000;0.000000
ORGANIZER;CN="ViFa-Recht":MAILTO:vifa-recht@sbb.spk-berlin.de
URL;VALUE=URI:https://events.intrecht.de/termine/termin/advanced-technologi
 es-in-emergencies-the-downfall-of-the-transparency-principle-in-counter-ter
 rorism-and-warfare-workshop/
END:VEVENT
BEGIN:VTIMEZONE
TZID:Europe/Berlin
BEGIN:DAYLIGHT
TZOFFSETFROM:+0100
TZOFFSETTO:+0200
DTSTART:20240331T010000
TZNAME:CEST
END:DAYLIGHT
END:VTIMEZONE
END:VCALENDAR
