BEGIN:VCALENDAR
VERSION:2.0
PRODID:-//Events | FID-Recht//NONSGML Events//EN
CALSCALE:GREGORIAN
X-ORIGINAL-URL:https://events.intrecht.de/termine/
X-WR-CALDESC:Events | FID-Recht - Events
BEGIN:VEVENT
UID:20220402T2151Z-1648936315.2744-EO-6458-1@172.16.200.141
STATUS:CONFIRMED
DTSTAMP:20260421T115342Z
CREATED:20220331T104644Z
LAST-MODIFIED:20220707T173127Z
DTSTART;VALUE=DATE:20220420
DTEND;VALUE=DATE:20220421
SUMMARY: Advanced Graduate Workshop 2022 on Poverty\, Globalization and Dev
 elopment (organized by Joseph Stiglitz) (CfA)
DESCRIPTION: 10.-23.7.2022\, Bangalore (Frist für Bewerbungen und Nominieru
 ngen: 20.4.2022) Home | Agwpgd (agw277.wixsite.com)  
X-ALT-DESC;FMTTYPE=text/html: <p>10.-23.7.2022\, Bangalore (Frist für Bewer
 bungen und Nominierungen: 20.4.2022)</p><p><a href="https://agw277.wixsite.
 com/agwpgd">Home | Agwpgd (agw277.wixsite.com)</a></p><p> </p><p>[av_button
  label='iCal-Export' link='./feed/eo-events' link_target='' size='small' po
 sition='center' label_display='' title_attr='' icon_select='yes' icon='ue85
 b' font='entypo-fontello' color='custom' custom_bg='#b5123e' custom_font='#
 ffffff' av_uid='' id='' custom_class='' admin_preview_bg='']</p>
CATEGORIES:Europäisches / Internationales Recht,Recht interdisziplinär
LOCATION:Ausland
GEO:0.000000;0.000000
ORGANIZER;CN="ViFa-Recht":MAILTO:vifa-recht@sbb.spk-berlin.de
URL;VALUE=URI:https://events.intrecht.de/termine/termin/advanced-graduate-w
 orkshop-2022-on-powerty-globalization-and-development-organized-by-joseph-s
 tiglitz-cfa/
END:VEVENT
BEGIN:VTIMEZONE
TZID:Europe/Berlin
BEGIN:DAYLIGHT
TZOFFSETFROM:+0100
TZOFFSETTO:+0200
DTSTART:20220327T010000
TZNAME:CEST
END:DAYLIGHT
END:VTIMEZONE
END:VCALENDAR
