BEGIN:VCALENDAR
VERSION:2.0
PRODID:-//Events | FID-Recht//NONSGML Events//EN
CALSCALE:GREGORIAN
X-ORIGINAL-URL:https://events.intrecht.de/termine/
X-WR-CALDESC:Events | FID-Recht - Events
BEGIN:VEVENT
UID:20210124T1345Z-1611495939.2168-EO-3090-1@172.16.200.141
STATUS:CONFIRMED
DTSTAMP:20260423T022721Z
CREATED:20210122T163349Z
LAST-MODIFIED:20210122T163349Z
DTSTART;VALUE=DATE:20210621
DTEND;VALUE=DATE:20210621
SUMMARY: Actualité internationale et comparée de l’éthique des affaires : p
 erspectives juridiques (Webinar)
DESCRIPTION: 21.6.2021\, Online/Dijon (Frist für Einreichungen: 1.2.2021) h
 ttp://www.sfdi.org/actualites/actualite-internationale-et-comparee-de-lethi
 que-des-affaires-perspectives-juridiques/  
X-ALT-DESC;FMTTYPE=text/html: <p>21.6.2021\, Online/Dijon (Frist für Einrei
 chungen: 1.2.2021)</p><p><a href="http://www.sfdi.org/actualites/actualite-
 internationale-et-comparee-de-lethique-des-affaires-perspectives-juridiques
 /">http://www.sfdi.org/actualites/actualite-internationale-et-comparee-de-l
 ethique-des-affaires-perspectives-juridiques/</a></p><p> </p><p>[av_button 
 label='iCal-Export' link='./feed/eo-events' link_target='' size='small' pos
 ition='center' label_display='' title_attr='' icon_select='yes' icon='ue85b
 ' font='entypo-fontello' color='custom' custom_bg='#b5123e' custom_font='#f
 fffff' av_uid='' id='' custom_class='' admin_preview_bg='']</p>
CATEGORIES:Europäisches / Internationales Recht,Zivilrecht
LOCATION:Online
GEO:0.000000;0.000000
ORGANIZER;CN="ViFa-Recht":MAILTO:vifa-recht@sbb.spk-berlin.de
URL;VALUE=URI:https://events.intrecht.de/termine/termin/actualite-internati
 onale-et-comparee-de-lethique-des-affaires-perspectives-juridiques-webinar/
END:VEVENT
BEGIN:VTIMEZONE
TZID:Europe/Berlin
BEGIN:DAYLIGHT
TZOFFSETFROM:+0100
TZOFFSETTO:+0200
DTSTART:20210328T010000
TZNAME:CEST
END:DAYLIGHT
END:VTIMEZONE
END:VCALENDAR
