BEGIN:VCALENDAR
VERSION:2.0
PRODID:-//Events | FID-Recht//NONSGML Events//EN
CALSCALE:GREGORIAN
X-ORIGINAL-URL:https://events.intrecht.de/termine/
X-WR-CALDESC:Events | FID-Recht - Events
BEGIN:VEVENT
UID:20200603T1418Z-1591193923.3362-EO-587-1@172.16.200.141
STATUS:CONFIRMED
DTSTAMP:20260426T045138Z
CREATED:20230628T092432Z
LAST-MODIFIED:20230628T092432Z
DTSTART;VALUE=DATE:20230705
DTEND;VALUE=DATE:20230706
SUMMARY: Accountability for Conflict-Related Environmental Harm (Webinar)
DESCRIPTION: 5.7.2023 / Online https://www.environmentalpeacebuilding.org/a
 ssets/Uploads/6495c8231a9a0.pdf
X-ALT-DESC;FMTTYPE=text/html: <p>5.7.2023 / Online</p><p><a href="https://w
 ww.environmentalpeacebuilding.org/assets/Uploads/6495c8231a9a0.pdf">https:/
 /www.environmentalpeacebuilding.org/assets/Uploads/6495c8231a9a0.pdf</a></p
 ><p>[av_button label='iCal-Export' link='./feed/eo-events' link_target='' s
 ize='small' position='center' label_display='' title_attr='' icon_select='y
 es' icon='ue85b' font='entypo-fontello' color='custom' custom_bg='#b5123e' 
 custom_font='#ffffff' av_uid='' id='' custom_class='' admin_preview_bg='']<
 /p>
CATEGORIES:Recht interdisziplinär
LOCATION:Online
GEO:0.000000;0.000000
ORGANIZER;CN="ViFa-Recht":MAILTO:vifa-recht@sbb.spk-berlin.de
URL;VALUE=URI:https://events.intrecht.de/termine/termin/accountability-for-
 conflict-related-environmental-harm-webinar/
END:VEVENT
BEGIN:VTIMEZONE
TZID:Europe/Berlin
BEGIN:DAYLIGHT
TZOFFSETFROM:+0100
TZOFFSETTO:+0200
DTSTART:20230326T010000
TZNAME:CEST
END:DAYLIGHT
END:VTIMEZONE
END:VCALENDAR
