BEGIN:VCALENDAR
VERSION:2.0
PRODID:-//Events | FID-Recht//NONSGML Events//EN
CALSCALE:GREGORIAN
X-ORIGINAL-URL:https://events.intrecht.de/termine/
X-WR-CALDESC:Events | FID-Recht - Events
BEGIN:VEVENT
UID:20200603T1418Z-1591193923.3362-EO-587-1@172.16.200.141
STATUS:CONFIRMED
DTSTAMP:20260423T003049Z
CREATED:20250310T141508Z
LAST-MODIFIED:20250310T141556Z
DTSTART;VALUE=DATE:20250311
DTEND;VALUE=DATE:20250312
SUMMARY: Access to Justice & Mediation (Webinar)
DESCRIPTION: 11.3.2025 / Online https://docs.google.com/forms/d/e/1FAIpQLSd
 eoH1zw2c9t-oyPtfc5sCPxVXlXdPL6Fb4dm5h5liYA9E5lA/viewform
X-ALT-DESC;FMTTYPE=text/html: <p>11.3.2025 / Online</p><p><a href="https://
 docs.google.com/forms/d/e/1FAIpQLSdeoH1zw2c9t-oyPtfc5sCPxVXlXdPL6Fb4dm5h5li
 YA9E5lA/viewform">https://docs.google.com/forms/d/e/1FAIpQLSdeoH1zw2c9t-oyP
 tfc5sCPxVXlXdPL6Fb4dm5h5liYA9E5lA/viewform</a></p><p>[av_button label='iCal
 -Export' link='./feed/eo-events' link_target='' size='small' position='cent
 er' label_display='' title_attr='' icon_select='yes' icon='ue85b' font='ent
 ypo-fontello' color='custom' custom_bg='#b5123e' custom_font='#ffffff' av_u
 id='' id='' custom_class='' admin_preview_bg='']</p>
CATEGORIES:Recht interdisziplinär
LOCATION:Online
GEO:0.000000;0.000000
ORGANIZER;CN="ViFa-Recht":MAILTO:vifa-recht@sbb.spk-berlin.de
URL;VALUE=URI:https://events.intrecht.de/termine/termin/access-to-justice-m
 ediation-webinar/
END:VEVENT
BEGIN:VTIMEZONE
TZID:Europe/Berlin
BEGIN:STANDARD
TZOFFSETFROM:+0200
TZOFFSETTO:+0100
DTSTART:20241027T010000
TZNAME:CET
END:STANDARD
END:VTIMEZONE
END:VCALENDAR
