BEGIN:VCALENDAR
VERSION:2.0
PRODID:-//Events | FID-Recht//NONSGML Events//EN
CALSCALE:GREGORIAN
X-ORIGINAL-URL:https://events.intrecht.de/termine/
X-WR-CALDESC:Events | FID-Recht - Events
BEGIN:VEVENT
UID:20200603T1418Z-1591193923.3362-EO-587-1@172.16.200.141
STATUS:CONFIRMED
DTSTAMP:20260422T225128Z
CREATED:20250618T065328Z
LAST-MODIFIED:20250618T065328Z
DTSTART;VALUE=DATE:20250701
DTEND;VALUE=DATE:20250702
SUMMARY: Access to Justice for Animals in Europe: Towards an ‘Aarhus Conven
 tion’ for Animals? (Hybrid Event)
DESCRIPTION: 1.7.2025 / Online und Hamburg https://events.mpipriv.de/b?p=ac
 cess_to_justice_for_animals_in_europe
X-ALT-DESC;FMTTYPE=text/html: <p>1.7.2025 / Online und Hamburg</p><p><a hre
 f="https://events.mpipriv.de/b?p=access_to_justice_for_animals_in_europe">h
 ttps://events.mpipriv.de/b?p=access_to_justice_for_animals_in_europe</a></p
 ><p>[av_button label='iCal-Export' link='./feed/eo-events' link_target='' s
 ize='small' position='center' label_display='' title_attr='' icon_select='y
 es' icon='ue85b' font='entypo-fontello' color='custom' custom_bg='#b5123e' 
 custom_font='#ffffff' av_uid='' id='' custom_class='' admin_preview_bg='']<
 /p>
CATEGORIES:Zivilrecht
LOCATION:Hybrid
GEO:0.000000;0.000000
ORGANIZER;CN="ViFa-Recht":MAILTO:vifa-recht@sbb.spk-berlin.de
URL;VALUE=URI:https://events.intrecht.de/termine/termin/access-to-justice-f
 or-animals-in-europe-towards-an-aarhus-convention-for-animals-hybrid-event/
END:VEVENT
BEGIN:VTIMEZONE
TZID:Europe/Berlin
BEGIN:DAYLIGHT
TZOFFSETFROM:+0100
TZOFFSETTO:+0200
DTSTART:20250330T010000
TZNAME:CEST
END:DAYLIGHT
END:VTIMEZONE
END:VCALENDAR
