BEGIN:VCALENDAR
VERSION:2.0
PRODID:-//Events | FID-Recht//NONSGML Events//EN
CALSCALE:GREGORIAN
X-ORIGINAL-URL:https://events.intrecht.de/termine/
X-WR-CALDESC:Events | FID-Recht - Events
BEGIN:VEVENT
UID:20200602T0945Z-1591091115.9737-EO-599-1@172.16.200.141
STATUS:CONFIRMED
DTSTAMP:20260423T092659Z
CREATED:20260413T103725Z
LAST-MODIFIED:20260413T103725Z
DTSTART;VALUE=DATE:20261109
DTEND;VALUE=DATE:20261111
SUMMARY: Absolute Rights under the ECHR at State Borders (Workshop)
DESCRIPTION: 9.-10.11.2026 / Nürnberg (Einreichungsfrist: 10.5.2026) https:
 //www.mr2.rw.fau.de/files/2026/03/Absolute-Rights-under-the-ECHR-at-State-B
 orders.pdf
X-ALT-DESC;FMTTYPE=text/html: <p>9.-10.11.2026 / Nürnberg <strong>(Einreich
 ungsfrist: 10.5.2026)</strong></p><p><a href="https://www.mr2.rw.fau.de/fil
 es/2026/03/Absolute-Rights-under-the-ECHR-at-State-Borders.pdf">https://www
 .mr2.rw.fau.de/files/2026/03/Absolute-Rights-under-the-ECHR-at-State-Border
 s.pdf</a></p><p>[av_button label='iCal-Export' link='./feed/eo-events' link
 _target='' size='small' position='center' label_display='' title_attr='' ic
 on_select='yes' icon='ue85b' font='entypo-fontello' color='custom' custom_b
 g='#b5123e' custom_font='#ffffff' av_uid='' id='' custom_class='' admin_pre
 view_bg='']</p>
CATEGORIES:Europäisches / Internationales Recht
LOCATION:Inland
GEO:0.000000;0.000000
ORGANIZER;CN="ViFa-Recht":MAILTO:vifa-recht@sbb.spk-berlin.de
URL;VALUE=URI:https://events.intrecht.de/termine/termin/absolute-rights-und
 er-the-echr-at-state-borders-workshop/
END:VEVENT
BEGIN:VTIMEZONE
TZID:Europe/Berlin
BEGIN:STANDARD
TZOFFSETFROM:+0200
TZOFFSETTO:+0100
DTSTART:20261025T010000
TZNAME:CET
END:STANDARD
END:VTIMEZONE
END:VCALENDAR
