BEGIN:VCALENDAR
VERSION:2.0
PRODID:-//Events | FID-Recht//NONSGML Events//EN
CALSCALE:GREGORIAN
X-ORIGINAL-URL:https://events.intrecht.de/termine/
X-WR-CALDESC:Events | FID-Recht - Events
BEGIN:VEVENT
UID:20201118T0606Z-1605679619.3144-EO-2203-1@172.16.200.141
STATUS:CONFIRMED
DTSTAMP:20260421T102922Z
CREATED:20201110T190403Z
LAST-MODIFIED:20201123T120206Z
DTSTART;TZID=Europe/Berlin:20201125T190000
DTEND;TZID=Europe/Berlin:20201125T220000
SUMMARY: Abschied für immer? Der Brexit und die Folgen für Gesellschaft und
  Wissenschaft (mit Ulrike Guérot\, Steffen Huck und Daniel Auer) (Online-Po
 diumsdiskussion)
DESCRIPTION: 25.11.2020\, Online https://wzb.eu/de/veranstaltungen/abschied
 -fuer-immer-der-brexit-und-die-folgen-fuer-gesellschaft-und-wissenschaft  
X-ALT-DESC;FMTTYPE=text/html: <p>25.11.2020\, Online</p><p><a href="https:/
 /wzb.eu/de/veranstaltungen/abschied-fuer-immer-der-brexit-und-die-folgen-fu
 er-gesellschaft-und-wissenschaft">https://wzb.eu/de/veranstaltungen/abschie
 d-fuer-immer-der-brexit-und-die-folgen-fuer-gesellschaft-und-wissenschaft</
 a></p><p> </p><p>[av_button label='iCal-Export' link='./feed/eo-events' lin
 k_target='' size='small' position='center' label_display='' title_attr='' i
 con_select='yes' icon='ue85b' font='entypo-fontello' color='custom' custom_
 bg='#b5123e' custom_font='#ffffff' av_uid='' id='' custom_class='' admin_pr
 eview_bg='']</p>
CATEGORIES:Europäisches / Internationales Recht,Recht interdisziplinär
LOCATION:Online
GEO:0.000000;0.000000
ORGANIZER;CN="ViFa-Recht":MAILTO:vifa-recht@sbb.spk-berlin.de
URL;VALUE=URI:https://events.intrecht.de/termine/termin/abschied-fuer-immer
 -der-brexit-und-die-folgen-fuer-gesellschaft-und-wissenschaft-mit-ulrike-gu
 erot-steffen-huck-und-daniel-auer-online-podiumsdiskussion/
END:VEVENT
BEGIN:VTIMEZONE
TZID:Europe/Berlin
BEGIN:STANDARD
TZOFFSETFROM:+0200
TZOFFSETTO:+0100
DTSTART:20201025T010000
TZNAME:CET
END:STANDARD
END:VTIMEZONE
END:VCALENDAR
