BEGIN:VCALENDAR
VERSION:2.0
PRODID:-//Events | FID-Recht//NONSGML Events//EN
CALSCALE:GREGORIAN
X-ORIGINAL-URL:https://events.intrecht.de/termine/
X-WR-CALDESC:Events | FID-Recht - Events
BEGIN:VEVENT
UID:20200603T1418Z-1591193923.3362-EO-587-1@172.16.200.141
STATUS:CONFIRMED
DTSTAMP:20260425T133124Z
CREATED:20230613T133505Z
LAST-MODIFIED:20230613T133550Z
DTSTART;VALUE=DATE:20230629
DTEND;VALUE=DATE:20230630
SUMMARY: Abraham Bar Menachem (ABM) Talks: Eight problems of conceptualizin
 g antisemitism
DESCRIPTION: 29.6.2023 / Online https://satl-dfg.com/de/eight-problems-of-c
 onceptualizing-antisemitism-2/
X-ALT-DESC;FMTTYPE=text/html: <p>29.6.2023 / Online</p><p><a href="https://
 satl-dfg.com/de/eight-problems-of-conceptualizing-antisemitism-2/">https://
 satl-dfg.com/de/eight-problems-of-conceptualizing-antisemitism-2/</a></p><p
 >[av_button label='iCal-Export' link='./feed/eo-events' link_target='' size
 ='small' position='center' label_display='' title_attr='' icon_select='yes'
  icon='ue85b' font='entypo-fontello' color='custom' custom_bg='#b5123e' cus
 tom_font='#ffffff' av_uid='' id='' custom_class='' admin_preview_bg='']</p>
CATEGORIES:Recht interdisziplinär
LOCATION:Online
GEO:0.000000;0.000000
ORGANIZER;CN="ViFa-Recht":MAILTO:vifa-recht@sbb.spk-berlin.de
URL;VALUE=URI:https://events.intrecht.de/termine/termin/abraham-bar-menache
 m-abm-talks-eight-problems-of-conceptualizing-antisemitism/
END:VEVENT
BEGIN:VTIMEZONE
TZID:Europe/Berlin
BEGIN:DAYLIGHT
TZOFFSETFROM:+0100
TZOFFSETTO:+0200
DTSTART:20230326T010000
TZNAME:CEST
END:DAYLIGHT
END:VTIMEZONE
END:VCALENDAR
