BEGIN:VCALENDAR
VERSION:2.0
PRODID:-//Events | FID-Recht//NONSGML Events//EN
CALSCALE:GREGORIAN
X-ORIGINAL-URL:https://events.intrecht.de/termine/
X-WR-CALDESC:Events | FID-Recht - Events
BEGIN:VEVENT
UID:20200707T0308Z-1594091318.4954-EO-1057-1@172.16.200.141
STATUS:CONFIRMED
DTSTAMP:20260422T230420Z
CREATED:20200624T130523Z
LAST-MODIFIED:20210311T162243Z
DTSTART;VALUE=DATE:20210310
DTEND;VALUE=DATE:20210313
SUMMARY: VERSCHOBEN: Abkehr vom Multilateralismus – Internationales Recht i
 n Gefahr? (Zweijahrestagung der DGIR) (Konferenz)
DESCRIPTION: VERSCHOBEN auf 9.-11.3.2022\, Heidelberg http://www.dgfir.de/ 
  
X-ALT-DESC;FMTTYPE=text/html: <p><strong>VERSCHOBEN </strong>auf 9.-11.3.20
 22\, Heidelberg</p><p><a href="http://www.dgfir.de/">http://www.dgfir.de/</
 a></p><p> </p><p>[av_button label='iCal-Export' link='./feed/eo-events' lin
 k_target='' size='small' position='center' label_display='' title_attr='' i
 con_select='yes' icon='ue85b' font='entypo-fontello' color='custom' custom_
 bg='#b5123e' custom_font='#ffffff' av_uid='' id='' custom_class='' admin_pr
 eview_bg='']</p>
CATEGORIES:Europäisches / Internationales Recht
LOCATION:Inland
GEO:0.000000;0.000000
ORGANIZER;CN="ViFa-Recht":MAILTO:vifa-recht@sbb.spk-berlin.de
URL;VALUE=URI:https://events.intrecht.de/termine/termin/abkehr-vom-multilat
 eralismus-internationales-recht-in-gefahr-zweijahrestagung-der-dgir-konfere
 nz/
END:VEVENT
BEGIN:VTIMEZONE
TZID:Europe/Berlin
BEGIN:STANDARD
TZOFFSETFROM:+0200
TZOFFSETTO:+0100
DTSTART:20201025T010000
TZNAME:CET
END:STANDARD
END:VTIMEZONE
END:VCALENDAR
