BEGIN:VCALENDAR
VERSION:2.0
PRODID:-//Events | FID-Recht//NONSGML Events//EN
CALSCALE:GREGORIAN
X-ORIGINAL-URL:https://events.intrecht.de/termine/
X-WR-CALDESC:Events | FID-Recht - Events
BEGIN:VEVENT
UID:20200617T1934Z-1592422483.015-EO-838-1@172.16.200.141
STATUS:CONFIRMED
DTSTAMP:20260422T161050Z
CREATED:20200604T125222Z
LAST-MODIFIED:20200604T125240Z
DTSTART;VALUE=DATE:20200701
DTEND;VALUE=DATE:20200704
SUMMARY: ABGESAGT: Manufacturing Collectivity. Exploring the Nexus of Gende
 r\, Collectivities\, and Law (Konferenz)
DESCRIPTION: 1.-3.7.2020\, Berlin https://www.recht-geschlecht-kollektivita
 et.de/fileadmin/user_upload/FOR_Call_law_gender_collectivity_2020.pdf https
 ://www.recht-geschlecht-kollektivitaet.de/veranstaltungen/?tx_news_pi1%5Bne
 ws%5D=31&tx_news_pi1%5Bcontroller%5D=News&tx_news_pi1%5Baction%5D=detail&cH
 ash=25773411ec3b85e22b4c51b85fa90747  
X-ALT-DESC;FMTTYPE=text/html: <p>1.-3.7.2020\, Berlin</p><p><a href="https:
 //www.recht-geschlecht-kollektivitaet.de/fileadmin/user_upload/FOR_Call_law
 _gender_collectivity_2020.pdf">https://www.recht-geschlecht-kollektivitaet.
 de/fileadmin/user_upload/FOR_Call_law_gender_collectivity_2020.pdf</a></p><
 p><a href="https://www.recht-geschlecht-kollektivitaet.de/veranstaltungen/?
 tx_news_pi1%5Bnews%5D=31&tx_news_pi1%5Bcontroller%5D=News&tx_news_pi1%5Bact
 ion%5D=detail&cHash=25773411ec3b85e22b4c51b85fa90747">https://www.recht-ges
 chlecht-kollektivitaet.de/veranstaltungen/?tx_news_pi1%5Bnews%5D=31&tx_news
 _pi1%5Bcontroller%5D=News&tx_news_pi1%5Baction%5D=detail&cHash=25773411ec3b
 85e22b4c51b85fa90747</a></p><p> </p><p>[av_button label='iCal-Export' link=
 './feed/eo-events' link_target='' size='small' position='center' label_disp
 lay='' title_attr='' icon_select='yes' icon='ue85b' font='entypo-fontello' 
 color='custom' custom_bg='#b5123e' custom_font='#ffffff' av_uid='' id='' cu
 stom_class='' admin_preview_bg='']</p>
CATEGORIES:Recht interdisziplinär
LOCATION:Inland
GEO:0.000000;0.000000
ORGANIZER;CN="ViFa-Recht":MAILTO:vifa-recht@sbb.spk-berlin.de
URL;VALUE=URI:https://events.intrecht.de/termine/termin/abgesagt-manufactur
 ing-collectivity-exploring-the-nexus-of-gender-collectivities-and-law-konfe
 renz/
END:VEVENT
BEGIN:VTIMEZONE
TZID:Europe/Berlin
BEGIN:DAYLIGHT
TZOFFSETFROM:+0100
TZOFFSETTO:+0200
DTSTART:20200329T010000
TZNAME:CEST
END:DAYLIGHT
END:VTIMEZONE
END:VCALENDAR
