BEGIN:VCALENDAR
VERSION:2.0
PRODID:-//Events | FID-Recht//NONSGML Events//EN
CALSCALE:GREGORIAN
X-ORIGINAL-URL:https://events.intrecht.de/termine/
X-WR-CALDESC:Events | FID-Recht - Events
BEGIN:VEVENT
UID:20230418T0517Z-1681795074.0498-EO-12679-1@172.16.200.151
STATUS:CONFIRMED
DTSTAMP:20260425T213808Z
CREATED:20230208T155335Z
LAST-MODIFIED:20230208T155335Z
DTSTART;VALUE=DATE:20230227
DTEND;VALUE=DATE:20230228
SUMMARY: Abendkolloquium am Wissenschaftskolleg zu Berlin: Hoch begehrt und
  äußerst skeptisch: Hochqualifizierte Migrantinnen und Migranten in Deutsch
 land
DESCRIPTION: 27.2.2023 / Berlin https://www.wiko-berlin.de/veranstaltungen/
 veranstaltungskalender/2023-02-27-hoch-begehrt-und-aeusserst-skeptisch-hoch
 qualifizierte-migrantinnen-und-migranten-in-deutschland  
X-ALT-DESC;FMTTYPE=text/html: <p>27.2.2023 / Berlin</p><p><a href="https://
 www.wiko-berlin.de/veranstaltungen/veranstaltungskalender/2023-02-27-hoch-b
 egehrt-und-aeusserst-skeptisch-hochqualifizierte-migrantinnen-und-migranten
 -in-deutschland">https://www.wiko-berlin.de/veranstaltungen/veranstaltungsk
 alender/2023-02-27-hoch-begehrt-und-aeusserst-skeptisch-hochqualifizierte-m
 igrantinnen-und-migranten-in-deutschland</a></p><p> </p><p>[av_button label
 ='iCal-Export' link='./feed/eo-events' link_target='' size='small' position
 ='center' label_display='' title_attr='' icon_select='yes' icon='ue85b' fon
 t='entypo-fontello' color='custom' custom_bg='#b5123e' custom_font='#ffffff
 ' av_uid='' id='' custom_class='' admin_preview_bg='']</p>
CATEGORIES:Recht interdisziplinär
LOCATION:Inland
GEO:0.000000;0.000000
ORGANIZER;CN="ViFa-Recht":MAILTO:vifa-recht@sbb.spk-berlin.de
URL;VALUE=URI:https://events.intrecht.de/termine/termin/abendkolloquium-am-
 wissenschaftskolleg-zu-berlin-hoch-begehrt-und-aeusserst-skeptisch-hochqual
 ifizierte-migrantinnen-und-migranten-in-deutschland/
END:VEVENT
BEGIN:VTIMEZONE
TZID:Europe/Berlin
BEGIN:STANDARD
TZOFFSETFROM:+0200
TZOFFSETTO:+0100
DTSTART:20221030T010000
TZNAME:CET
END:STANDARD
END:VTIMEZONE
END:VCALENDAR
