BEGIN:VCALENDAR
VERSION:2.0
PRODID:-//Events | FID-Recht//NONSGML Events//EN
CALSCALE:GREGORIAN
X-ORIGINAL-URL:https://events.intrecht.de/termine/
X-WR-CALDESC:Events | FID-Recht - Events
BEGIN:VEVENT
UID:20200603T1418Z-1591193923.3362-EO-587-1@172.16.200.141
STATUS:CONFIRMED
DTSTAMP:20260425T175145Z
CREATED:20231116T130214Z
LAST-MODIFIED:20231116T130214Z
DTSTART;VALUE=DATE:20240606
DTEND;VALUE=DATE:20240608
SUMMARY: A Union of Crises: In Search of Constitutional Resilience (7th You
 ng European Law Scholars (YELS) Conference)
DESCRIPTION: 6.-7.6.2024 / Ljubljana (Einreichungsfrist: 31.1.2024) https:/
 /www.pf.uni-lj.si/media/yels_call.for.papers.pdf
X-ALT-DESC;FMTTYPE=text/html: <p>6.-7.6.2024 / Ljubljana <strong>(Einreichu
 ngsfrist: 31.1.2024)</strong></p><p><a href="https://www.pf.uni-lj.si/media
 /yels_call.for.papers.pdf">https://www.pf.uni-lj.si/media/yels_call.for.pap
 ers.pdf</a></p><p>[av_button label='iCal-Export' link='./feed/eo-events' li
 nk_target='' size='small' position='center' label_display='' title_attr='' 
 icon_select='yes' icon='ue85b' font='entypo-fontello' color='custom' custom
 _bg='#b5123e' custom_font='#ffffff' av_uid='' id='' custom_class='' admin_p
 review_bg='']</p>
CATEGORIES:Europäisches / Internationales Recht
LOCATION:Ausland
GEO:0.000000;0.000000
ORGANIZER;CN="ViFa-Recht":MAILTO:vifa-recht@sbb.spk-berlin.de
URL;VALUE=URI:https://events.intrecht.de/termine/termin/a-union-of-crises-i
 n-search-of-constitutional-resilience-7th-young-european-law-scholars-yels-
 conference/
END:VEVENT
BEGIN:VTIMEZONE
TZID:Europe/Berlin
BEGIN:DAYLIGHT
TZOFFSETFROM:+0100
TZOFFSETTO:+0200
DTSTART:20240331T010000
TZNAME:CEST
END:DAYLIGHT
END:VTIMEZONE
END:VCALENDAR
