BEGIN:VCALENDAR
VERSION:2.0
PRODID:-//Events | FID-Recht//NONSGML Events//EN
CALSCALE:GREGORIAN
X-ORIGINAL-URL:https://events.intrecht.de/termine/
X-WR-CALDESC:Events | FID-Recht - Events
BEGIN:VEVENT
UID:20200603T1418Z-1591193923.3362-EO-587-1@172.16.200.141
STATUS:CONFIRMED
DTSTAMP:20260422T154512Z
CREATED:20240613T090430Z
LAST-MODIFIED:20240613T090430Z
DTSTART;VALUE=DATE:20240620
DTEND;VALUE=DATE:20240622
SUMMARY: A Playbook for Reinstating the Rule of Law (Hybrid Conference)
DESCRIPTION: 20.-21.6.2024 / Online und Freiburg https://ruleoflaw-freiburg
 .de/
X-ALT-DESC;FMTTYPE=text/html: <p>20.-21.6.2024 / Online und Freiburg</p><p>
 <a href="https://ruleoflaw-freiburg.de/">https://ruleoflaw-freiburg.de/</a>
 </p><p>[av_button label='iCal-Export' link='./feed/eo-events' link_target='
 ' size='small' position='center' label_display='' title_attr='' icon_select
 ='yes' icon='ue85b' font='entypo-fontello' color='custom' custom_bg='#b5123
 e' custom_font='#ffffff' av_uid='' id='' custom_class='' admin_preview_bg='
 ']</p>
CATEGORIES:Recht interdisziplinär
LOCATION:Hybrid
GEO:0.000000;0.000000
ORGANIZER;CN="ViFa-Recht":MAILTO:vifa-recht@sbb.spk-berlin.de
URL;VALUE=URI:https://events.intrecht.de/termine/termin/a-playbook-for-rein
 stating-the-rule-of-law-hybrid-conference/
END:VEVENT
BEGIN:VTIMEZONE
TZID:Europe/Berlin
BEGIN:DAYLIGHT
TZOFFSETFROM:+0100
TZOFFSETTO:+0200
DTSTART:20240331T010000
TZNAME:CEST
END:DAYLIGHT
END:VTIMEZONE
END:VCALENDAR
