BEGIN:VCALENDAR
VERSION:2.0
PRODID:-//Events | FID-Recht//NONSGML Events//EN
CALSCALE:GREGORIAN
X-ORIGINAL-URL:https://events.intrecht.de/termine/
X-WR-CALDESC:Events | FID-Recht - Events
BEGIN:VEVENT
UID:20211218T0130Z-1639791008.1371-EO-5414-1@172.16.200.141
STATUS:CONFIRMED
DTSTAMP:20260420T113202Z
CREATED:20211216T111403Z
LAST-MODIFIED:20211216T111403Z
DTSTART;VALUE=DATE:20211216
DTEND;VALUE=DATE:20211217
SUMMARY: A ‘New Era’ of Chinese Law? Legal Studies in Times of ‘Xi Jinping 
 Thought on Law Rule’ (mit Philipp Renninger) (Online-Vortrag)
DESCRIPTION: 16.12.2021\, Online https://events.gwdg.de/event/77/  
X-ALT-DESC;FMTTYPE=text/html: <p>16.12.2021\, Online</p><p><a href="https:/
 /events.gwdg.de/event/77/">https://events.gwdg.de/event/77/</a></p><p> </p>
 <p>[av_button label='iCal-Export' link='./feed/eo-events' link_target='' si
 ze='small' position='center' label_display='' title_attr='' icon_select='ye
 s' icon='ue85b' font='entypo-fontello' color='custom' custom_bg='#b5123e' c
 ustom_font='#ffffff' av_uid='' id='' custom_class='' admin_preview_bg='']</
 p>
CATEGORIES:Zivilrecht
LOCATION:Online
GEO:0.000000;0.000000
ORGANIZER;CN="ViFa-Recht":MAILTO:vifa-recht@sbb.spk-berlin.de
URL;VALUE=URI:https://events.intrecht.de/termine/termin/a-new-era-of-chines
 e-law-legal-studies-in-times-of-xi-jinping-thought-on-law-rule-mit-philipp-
 renninger-online-vortrag/
END:VEVENT
BEGIN:VTIMEZONE
TZID:Europe/Berlin
BEGIN:STANDARD
TZOFFSETFROM:+0200
TZOFFSETTO:+0100
DTSTART:20211031T010000
TZNAME:CET
END:STANDARD
END:VTIMEZONE
END:VCALENDAR
