BEGIN:VCALENDAR
VERSION:2.0
PRODID:-//Events | FID-Recht//NONSGML Events//EN
CALSCALE:GREGORIAN
X-ORIGINAL-URL:https://events.intrecht.de/termine/
X-WR-CALDESC:Events | FID-Recht - Events
BEGIN:VEVENT
UID:20200603T1418Z-1591193923.3362-EO-587-1@172.16.200.141
STATUS:CONFIRMED
DTSTAMP:20260422T173927Z
CREATED:20240124T103835Z
LAST-MODIFIED:20240124T103835Z
DTSTART;VALUE=DATE:20241121
DTEND;VALUE=DATE:20241123
SUMMARY: A multi-disciplinary take on the role of the judiciary in the law 
 of the sea (Conference)
DESCRIPTION: 21.-22.11.2024 / Utrecht (Einreichungsfrist: 29.2.2024) https:
 //www.uu.nl/en/news/call-for-papers-a-multi-disciplinary-take-on-the-role-o
 f-the-judiciary-in-the-law-of-the-sea
X-ALT-DESC;FMTTYPE=text/html: <p>21.-22.11.2024 / Utrecht <strong>(Einreich
 ungsfrist: 29.2.2024)</strong></p><p><a href="https://www.uu.nl/en/news/cal
 l-for-papers-a-multi-disciplinary-take-on-the-role-of-the-judiciary-in-the-
 law-of-the-sea">https://www.uu.nl/en/news/call-for-papers-a-multi-disciplin
 ary-take-on-the-role-of-the-judiciary-in-the-law-of-the-sea</a></p><p>[av_b
 utton label='iCal-Export' link='./feed/eo-events' link_target='' size='smal
 l' position='center' label_display='' title_attr='' icon_select='yes' icon=
 'ue85b' font='entypo-fontello' color='custom' custom_bg='#b5123e' custom_fo
 nt='#ffffff' av_uid='' id='' custom_class='' admin_preview_bg='']</p>
CATEGORIES:Europäisches / Internationales Recht
LOCATION:Ausland
GEO:0.000000;0.000000
ORGANIZER;CN="ViFa-Recht":MAILTO:vifa-recht@sbb.spk-berlin.de
URL;VALUE=URI:https://events.intrecht.de/termine/termin/a-multi-disciplinar
 y-take-on-the-role-of-the-judiciary-in-the-law-of-the-sea-conference/
END:VEVENT
BEGIN:VTIMEZONE
TZID:Europe/Berlin
BEGIN:STANDARD
TZOFFSETFROM:+0200
TZOFFSETTO:+0100
DTSTART:20241027T010000
TZNAME:CET
END:STANDARD
END:VTIMEZONE
END:VCALENDAR
