BEGIN:VCALENDAR
VERSION:2.0
PRODID:-//Events | FID-Recht//NONSGML Events//EN
CALSCALE:GREGORIAN
X-ORIGINAL-URL:https://events.intrecht.de/termine/
X-WR-CALDESC:Events | FID-Recht - Events
BEGIN:VEVENT
UID:20200603T1418Z-1591193923.3362-EO-587-1@172.16.200.141
STATUS:CONFIRMED
DTSTAMP:20260423T022128Z
CREATED:20240708T092416Z
LAST-MODIFIED:20240708T092416Z
DTSTART;VALUE=DATE:20240924
DTEND;VALUE=DATE:20240925
SUMMARY: A Mother’s Ignorance: Gender\, Trust\, and Law in Vaccination (Onl
 ine Event)
DESCRIPTION: 24.9.2024 / Online https://law.mpg.de/event/a-mothers-ignoranc
 e-gender-trust-and-law-in-vaccination/
X-ALT-DESC;FMTTYPE=text/html: <p>24.9.2024 / Online</p><p><a href="https://
 law.mpg.de/event/a-mothers-ignorance-gender-trust-and-law-in-vaccination/">
 https://law.mpg.de/event/a-mothers-ignorance-gender-trust-and-law-in-vaccin
 ation/</a></p><p>[av_button label='iCal-Export' link='./feed/eo-events' lin
 k_target='' size='small' position='center' label_display='' title_attr='' i
 con_select='yes' icon='ue85b' font='entypo-fontello' color='custom' custom_
 bg='#b5123e' custom_font='#ffffff' av_uid='' id='' custom_class='' admin_pr
 eview_bg='']</p>
CATEGORIES:Recht interdisziplinär
LOCATION:Online
GEO:0.000000;0.000000
ORGANIZER;CN="ViFa-Recht":MAILTO:vifa-recht@sbb.spk-berlin.de
URL;VALUE=URI:https://events.intrecht.de/termine/termin/a-mothers-ignorance
 -gender-trust-and-law-in-vaccination-online-event/
END:VEVENT
BEGIN:VTIMEZONE
TZID:Europe/Berlin
BEGIN:DAYLIGHT
TZOFFSETFROM:+0100
TZOFFSETTO:+0200
DTSTART:20240331T010000
TZNAME:CEST
END:DAYLIGHT
END:VTIMEZONE
END:VCALENDAR
