BEGIN:VCALENDAR
VERSION:2.0
PRODID:-//Events | FID-Recht//NONSGML Events//EN
CALSCALE:GREGORIAN
X-ORIGINAL-URL:https://events.intrecht.de/termine/
X-WR-CALDESC:Events | FID-Recht - Events
BEGIN:VEVENT
UID:20200930T2323Z-1601508188.585-EO-1623-1@172.16.200.141
STATUS:CONFIRMED
DTSTAMP:20260421T235333Z
CREATED:20200925T182017Z
LAST-MODIFIED:20200925T182017Z
DTSTART;VALUE=DATE:20201115
DTEND;VALUE=DATE:20201115
SUMMARY: ‚A Lost World? Jewish International Lawyers and New World Orders‘ 
 (1917-1951) (Online-Konferenz) (Call)
DESCRIPTION: 24.-25.5.2021\, Online (Frist für Einreichungen: 15.11.2020) h
 ttps://en.law.huji.ac.il/news/call-papers-lost-world-jewish-international-l
 awyers-and-new-world-orders-1917-1951  
X-ALT-DESC;FMTTYPE=text/html: <p>24.-25.5.2021\, Online (Frist für Einreich
 ungen: 15.11.2020)</p><p><a href="https://en.law.huji.ac.il/news/call-paper
 s-lost-world-jewish-international-lawyers-and-new-world-orders-1917-1951">h
 ttps://en.law.huji.ac.il/news/call-papers-lost-world-jewish-international-l
 awyers-and-new-world-orders-1917-1951</a></p><p> </p><p>[av_button label='i
 Cal-Export' link='./feed/eo-events' link_target='' size='small' position='c
 enter' label_display='' title_attr='' icon_select='yes' icon='ue85b' font='
 entypo-fontello' color='custom' custom_bg='#b5123e' custom_font='#ffffff' a
 v_uid='' id='' custom_class='' admin_preview_bg='']</p>
CATEGORIES:Europäisches / Internationales Recht,Recht interdisziplinär
LOCATION:Online
GEO:0.000000;0.000000
ORGANIZER;CN="ViFa-Recht":MAILTO:vifa-recht@sbb.spk-berlin.de
URL;VALUE=URI:https://events.intrecht.de/termine/termin/a-lost-world-jewish
 -international-lawyers-and-new-world-orders-1917-1951-online-konferenz-call
 /
END:VEVENT
BEGIN:VTIMEZONE
TZID:Europe/Berlin
BEGIN:STANDARD
TZOFFSETFROM:+0200
TZOFFSETTO:+0100
DTSTART:20201025T010000
TZNAME:CET
END:STANDARD
END:VTIMEZONE
END:VCALENDAR
