BEGIN:VCALENDAR
VERSION:2.0
PRODID:-//Events | FID-Recht//NONSGML Events//EN
CALSCALE:GREGORIAN
X-ORIGINAL-URL:https://events.intrecht.de/termine/
X-WR-CALDESC:Events | FID-Recht - Events
BEGIN:VEVENT
UID:20201113T1043Z-1605264235.6372-EO-2199-1@172.16.200.141
STATUS:CONFIRMED
DTSTAMP:20260422T175338Z
CREATED:20201113T110916Z
LAST-MODIFIED:20201113T110916Z
DTSTART;VALUE=DATE:20201208
DTEND;VALUE=DATE:20201209
SUMMARY: A Level Playing Field for EU-UK Economic Relations (with Kenneth A
 rmstrong\, George Peretz\, Michael Bowsher\, Oke Odudu) (Webinar)
DESCRIPTION: 8.12.2020\, Online https://www.cels.law.cam.ac.uk/press/events
 /2020/12/monckton-faculty-law-webinar-series-eu-relations-law-level-playing
 -field-eu-uk-economic-relations    
X-ALT-DESC;FMTTYPE=text/html: <p>8.12.2020\, Online</p><p><a href="https://
 www.cels.law.cam.ac.uk/press/events/2020/12/monckton-faculty-law-webinar-se
 ries-eu-relations-law-uk-external-trade-relations">https://www.cels.law.cam
 .ac.uk/press/events/2020/12/monckton-faculty-law-webinar-series-eu-relation
 s-law-level-playing-field-eu-uk-economic-relations</a></p><p> </p><p> </p><
 p>[av_button label='iCal-Export' link='./feed/eo-events' link_target='' siz
 e='small' position='center' label_display='' title_attr='' icon_select='yes
 ' icon='ue85b' font='entypo-fontello' color='custom' custom_bg='#b5123e' cu
 stom_font='#ffffff' av_uid='' id='' custom_class='' admin_preview_bg='']</p
 >
CATEGORIES:Europäisches / Internationales Recht
LOCATION:Online
GEO:0.000000;0.000000
ORGANIZER;CN="ViFa-Recht":MAILTO:vifa-recht@sbb.spk-berlin.de
URL;VALUE=URI:https://events.intrecht.de/termine/termin/a-level-playing-fie
 ld-for-eu-uk-economic-relations-with-kenneth-armstrong-george-peretz-michae
 l-bowsher-oke-odudu-webinar/
END:VEVENT
BEGIN:VTIMEZONE
TZID:Europe/Berlin
BEGIN:STANDARD
TZOFFSETFROM:+0200
TZOFFSETTO:+0100
DTSTART:20201025T010000
TZNAME:CET
END:STANDARD
END:VTIMEZONE
END:VCALENDAR
