BEGIN:VCALENDAR
VERSION:2.0
PRODID:-//Events | FID-Recht//NONSGML Events//EN
CALSCALE:GREGORIAN
X-ORIGINAL-URL:https://events.intrecht.de/termine/
X-WR-CALDESC:Events | FID-Recht - Events
BEGIN:VEVENT
UID:20211027T1024Z-1635330271.1623-EO-4909-1@172.16.200.141
STATUS:CONFIRMED
DTSTAMP:20260421T102819Z
CREATED:20211026T143607Z
LAST-MODIFIED:20211026T143607Z
DTSTART;VALUE=DATE:20211025
DTEND;VALUE=DATE:20211026
SUMMARY: A European approach to Artificial Intelligence – The proposed Euro
 pean AI Act to address fundamental rights and safety risks specific to AI s
 ystems (Online-Vortrag)
DESCRIPTION: 25.10.2021\, Hamburg NAIL – Opening Ceremony with Irina Orssic
 h – Universität Hamburg (uni-hamburg.de)  
X-ALT-DESC;FMTTYPE=text/html: <p>25.10.2021\, Hamburg</p><p><a href="https:
 //www.jura.uni-hamburg.de/forschung/institute-forschungsstellen-und-zentren
 /institut-recht-oekonomik/internationale-kooperationen/nail/events-nail/202
 1-10-25.html">NAIL - Opening Ceremony with Irina Orssich - Universität Hamb
 urg (uni-hamburg.de)</a></p><p> </p><p>[av_button label='iCal-Export' link=
 './feed/eo-events' link_target='' size='small' position='center' label_disp
 lay='' title_attr='' icon_select='yes' icon='ue85b' font='entypo-fontello' 
 color='custom' custom_bg='#b5123e' custom_font='#ffffff' av_uid='' id='' cu
 stom_class='' admin_preview_bg='']</p>
CATEGORIES:Recht interdisziplinär
LOCATION:Inland
GEO:0.000000;0.000000
ORGANIZER;CN="ViFa-Recht":MAILTO:vifa-recht@sbb.spk-berlin.de
URL;VALUE=URI:https://events.intrecht.de/termine/termin/a-european-approach
 -to-artificial-intelligence-the-proposed-european-ai-act-to-address-fundame
 ntal-rights-and-safety-risks-specific-to-ai-systems-online-vortrag/
END:VEVENT
BEGIN:VTIMEZONE
TZID:Europe/Berlin
BEGIN:DAYLIGHT
TZOFFSETFROM:+0100
TZOFFSETTO:+0200
DTSTART:20210328T010000
TZNAME:CEST
END:DAYLIGHT
END:VTIMEZONE
END:VCALENDAR
