BEGIN:VCALENDAR
VERSION:2.0
PRODID:-//Events | FID-Recht//NONSGML Events//EN
CALSCALE:GREGORIAN
X-ORIGINAL-URL:https://events.intrecht.de/termine/
X-WR-CALDESC:Events | FID-Recht - Events
BEGIN:VEVENT
UID:20200603T1418Z-1591193923.3362-EO-587-1@172.16.200.141
STATUS:CONFIRMED
DTSTAMP:20260422T125345Z
CREATED:20240506T120719Z
LAST-MODIFIED:20240506T120719Z
DTSTART;VALUE=DATE:20240516
DTEND;VALUE=DATE:20240517
SUMMARY: A Court of Many Languages: Islamic Law and Multilingualism in The 
 Gambia (Hybrid Event / Afternoon Talk on Islamic Law)
DESCRIPTION: 16.5.2024 / Online und Hamburg https://events.mpipriv.de/after
 noon_talk_with_dominik_krell
X-ALT-DESC;FMTTYPE=text/html: <p>16.5.2024 / Online und Hamburg</p><p><a hr
 ef="https://events.mpipriv.de/afternoon_talk_with_dominik_krell">https://ev
 ents.mpipriv.de/afternoon_talk_with_dominik_krell</a></p><p>[av_button labe
 l='iCal-Export' link='./feed/eo-events' link_target='' size='small' positio
 n='center' label_display='' title_attr='' icon_select='yes' icon='ue85b' fo
 nt='entypo-fontello' color='custom' custom_bg='#b5123e' custom_font='#fffff
 f' av_uid='' id='' custom_class='' admin_preview_bg='']</p>
CATEGORIES:Recht interdisziplinär
LOCATION:Hybrid
GEO:0.000000;0.000000
ORGANIZER;CN="ViFa-Recht":MAILTO:vifa-recht@sbb.spk-berlin.de
URL;VALUE=URI:https://events.intrecht.de/termine/termin/a-court-of-many-lan
 guages-islamic-law-and-multilingualism-in-the-gambia-hybrid-event-afternoon
 -talk-on-islamic-law/
END:VEVENT
BEGIN:VTIMEZONE
TZID:Europe/Berlin
BEGIN:DAYLIGHT
TZOFFSETFROM:+0100
TZOFFSETTO:+0200
DTSTART:20240331T010000
TZNAME:CEST
END:DAYLIGHT
END:VTIMEZONE
END:VCALENDAR
