BEGIN:VCALENDAR
VERSION:2.0
PRODID:-//Events | FID-Recht//NONSGML Events//EN
CALSCALE:GREGORIAN
X-ORIGINAL-URL:https://events.intrecht.de/termine/
X-WR-CALDESC:Events | FID-Recht - Events
BEGIN:VEVENT
UID:20200913T0057Z-1599958625.199-EO-1495-1@172.16.200.141
STATUS:CONFIRMED
DTSTAMP:20260422T193719Z
CREATED:20200901T125752Z
LAST-MODIFIED:20200901T125752Z
DTSTART;VALUE=DATE:20200915
DTEND;VALUE=DATE:20200915
SUMMARY: 9th Law and Economics Conference (Call)
DESCRIPTION: 16.-17.11.2021\, Luzern (Frist für Einreichungen: 15.9.2020) h
 ttps://lamb.nd.edu/assets/395169/cfp_9th_law_and_economics_conference_law_a
 nd_economics_of_the_2020_corona_crisis.pdf  
X-ALT-DESC;FMTTYPE=text/html: <p>16.-17.11.2021\, Luzern <span style="displ
 ay: inline !important\; float: none\; background-color: #ffffff\; color: #3
 33333\; cursor: text\; font-family: Georgia\,'Times New Roman'\,'Bitstream 
 Charter'\,Times\,serif\; font-size: 16px\; font-style: normal\; font-varian
 t: normal\; font-weight: 400\; letter-spacing: normal\; orphans: 2\; text-a
 lign: left\; text-decoration: none\; text-indent: 0px\; text-transform: non
 e\; -webkit-text-stroke-width: 0px\; white-space: normal\; word-spacing: 0p
 x\;"> (Frist für Einreichungen: 15.9.2020)</span></p><p><a href="https://la
 mb.nd.edu/assets/395169/cfp_9th_law_and_economics_conference_law_and_econom
 ics_of_the_2020_corona_crisis.pdf">https://lamb.nd.edu/assets/395169/cfp_9t
 h_law_and_economics_conference_law_and_economics_of_the_2020_corona_crisis.
 pdf</a></p><p> </p><p>[av_button label='iCal-Export' link='./feed/eo-events
 ' link_target='' size='small' position='center' label_display='' title_attr
 ='' icon_select='yes' icon='ue85b' font='entypo-fontello' color='custom' cu
 stom_bg='#b5123e' custom_font='#ffffff' av_uid='' id='' custom_class='' adm
 in_preview_bg='']</p>
CATEGORIES:Recht interdisziplinär
LOCATION:Ausland
GEO:0.000000;0.000000
ORGANIZER;CN="ViFa-Recht":MAILTO:vifa-recht@sbb.spk-berlin.de
URL;VALUE=URI:https://events.intrecht.de/termine/termin/9th-law-and-economi
 cs-conference-call/
END:VEVENT
BEGIN:VTIMEZONE
TZID:Europe/Berlin
BEGIN:DAYLIGHT
TZOFFSETFROM:+0100
TZOFFSETTO:+0200
DTSTART:20200329T010000
TZNAME:CEST
END:DAYLIGHT
END:VTIMEZONE
END:VCALENDAR
