BEGIN:VCALENDAR
VERSION:2.0
PRODID:-//Events | FID-Recht//NONSGML Events//EN
CALSCALE:GREGORIAN
X-ORIGINAL-URL:https://events.intrecht.de/termine/
X-WR-CALDESC:Events | FID-Recht - Events
BEGIN:VEVENT
UID:20200603T1418Z-1591193923.3362-EO-587-1@172.16.200.141
STATUS:CONFIRMED
DTSTAMP:20260425T211514Z
CREATED:20230227T121256Z
LAST-MODIFIED:20230227T121256Z
DTSTART;VALUE=DATE:20230928
DTEND;VALUE=DATE:20230930
SUMMARY: 9. Prozessrechtstagung: Die Politisierung des Verfahrens(rechts)
DESCRIPTION: 28.-29.9.2023 / Heidelberg (Frist für Einreichungen: 30.4.2023
 ) https://www.ipr.uni-heidelberg.de/prozessrechtstagung/
X-ALT-DESC;FMTTYPE=text/html: <p>28.-29.9.2023 / Heidelberg <strong>(Frist 
 für Einreichungen: 30.4.2023)</strong></p><p><a href="https://www.ipr.uni-h
 eidelberg.de/prozessrechtstagung/">https://www.ipr.uni-heidelberg.de/prozes
 srechtstagung/</a></p><p>[av_button label='iCal-Export' link='./feed/eo-eve
 nts' link_target='' size='small' position='center' label_display='' title_a
 ttr='' icon_select='yes' icon='ue85b' font='entypo-fontello' color='custom'
  custom_bg='#b5123e' custom_font='#ffffff' av_uid='' id='' custom_class='' 
 admin_preview_bg='']</p>
CATEGORIES:Recht interdisziplinär
LOCATION:Inland
GEO:0.000000;0.000000
ORGANIZER;CN="ViFa-Recht":MAILTO:vifa-recht@sbb.spk-berlin.de
URL;VALUE=URI:https://events.intrecht.de/termine/termin/9-prozessrechtstagu
 ng-die-politisierung-des-verfahrensrechts/
END:VEVENT
BEGIN:VTIMEZONE
TZID:Europe/Berlin
BEGIN:DAYLIGHT
TZOFFSETFROM:+0100
TZOFFSETTO:+0200
DTSTART:20230326T010000
TZNAME:CEST
END:DAYLIGHT
END:VTIMEZONE
END:VCALENDAR
