BEGIN:VCALENDAR
VERSION:2.0
PRODID:-//Events | FID-Recht//NONSGML Events//EN
CALSCALE:GREGORIAN
X-ORIGINAL-URL:https://events.intrecht.de/termine/
X-WR-CALDESC:Events | FID-Recht - Events
BEGIN:VEVENT
UID:20230418T1221Z-1681820507.7955-EO-12676-1@172.16.200.151
STATUS:CONFIRMED
DTSTAMP:20260425T231625Z
CREATED:20230208T143751Z
LAST-MODIFIED:20230208T143751Z
DTSTART;VALUE=DATE:20230216
DTEND;VALUE=DATE:20230218
SUMMARY: 9. Göttinger Forum IT-Recht 2023
DESCRIPTION: 16.-17.2.2023 / Online und Göttingen https://www.goettingen-it
 recht.de/  
X-ALT-DESC;FMTTYPE=text/html: <p>16.-17.2.2023 / Online und Göttingen</p><p
 ><a href="https://www.goettingen-itrecht.de/">https://www.goettingen-itrech
 t.de/</a></p><p> </p><p>[av_button label='iCal-Export' link='./feed/eo-even
 ts' link_target='' size='small' position='center' label_display='' title_at
 tr='' icon_select='yes' icon='ue85b' font='entypo-fontello' color='custom' 
 custom_bg='#b5123e' custom_font='#ffffff' av_uid='' id='' custom_class='' a
 dmin_preview_bg='']</p>
CATEGORIES:Recht interdisziplinär
LOCATION:Online
GEO:0.000000;0.000000
ORGANIZER;CN="ViFa-Recht":MAILTO:vifa-recht@sbb.spk-berlin.de
URL;VALUE=URI:https://events.intrecht.de/termine/termin/9-goettinger-forum-
 it-recht-2023/
END:VEVENT
BEGIN:VTIMEZONE
TZID:Europe/Berlin
BEGIN:STANDARD
TZOFFSETFROM:+0200
TZOFFSETTO:+0100
DTSTART:20221030T010000
TZNAME:CET
END:STANDARD
END:VTIMEZONE
END:VCALENDAR
