BEGIN:VCALENDAR
VERSION:2.0
PRODID:-//Events | FID-Recht//NONSGML Events//EN
CALSCALE:GREGORIAN
X-ORIGINAL-URL:https://events.intrecht.de/termine/
X-WR-CALDESC:Events | FID-Recht - Events
BEGIN:VEVENT
UID:20200603T1418Z-1591193923.3362-EO-587-1@172.16.200.141
STATUS:CONFIRMED
DTSTAMP:20260425T150145Z
CREATED:20230712T100309Z
LAST-MODIFIED:20230712T100309Z
DTSTART;VALUE=DATE:20231004
DTEND;VALUE=DATE:20231007
SUMMARY: 82. Jahrestagung der Vereinigung der Deutschen Staatsrechtslehrer
DESCRIPTION: 4.-6.10.2023 / Bochum http://staatsrechtslehrertagung2023.de/
X-ALT-DESC;FMTTYPE=text/html: <p>4.-6.10.2023 / Bochum</p><p><a href="http:
 //staatsrechtslehrertagung2023.de/">http://staatsrechtslehrertagung2023.de/
 </a></p><p>[av_button label='iCal-Export' link='./feed/eo-events' link_targ
 et='' size='small' position='center' label_display='' title_attr='' icon_se
 lect='yes' icon='ue85b' font='entypo-fontello' color='custom' custom_bg='#b
 5123e' custom_font='#ffffff' av_uid='' id='' custom_class='' admin_preview_
 bg='']</p>
CATEGORIES:Öffentliches Recht
LOCATION:Inland
GEO:0.000000;0.000000
ORGANIZER;CN="ViFa-Recht":MAILTO:vifa-recht@sbb.spk-berlin.de
URL;VALUE=URI:https://events.intrecht.de/termine/termin/82-jahrestagung-der
 -vereinigung-der-deutschen-staatsrechtslehrer/
END:VEVENT
BEGIN:VTIMEZONE
TZID:Europe/Berlin
BEGIN:DAYLIGHT
TZOFFSETFROM:+0100
TZOFFSETTO:+0200
DTSTART:20230326T010000
TZNAME:CEST
END:DAYLIGHT
END:VTIMEZONE
END:VCALENDAR
