BEGIN:VCALENDAR
VERSION:2.0
PRODID:-//Events | FID-Recht//NONSGML Events//EN
CALSCALE:GREGORIAN
X-ORIGINAL-URL:https://events.intrecht.de/termine/
X-WR-CALDESC:Events | FID-Recht - Events
BEGIN:VEVENT
UID:20230418T0525Z-1681795550.5544-EO-8225-1@172.16.200.151
STATUS:CONFIRMED
DTSTAMP:20260425T201913Z
CREATED:20230206T113237Z
LAST-MODIFIED:20230206T113316Z
DTSTART;VALUE=DATE:20230223
DTEND;VALUE=DATE:20230224
SUMMARY: 80 Jahre Proteste in der Rosenstraße im Februar 1943 (Webinar)
DESCRIPTION: 23.2.2023 / Online https://www.ghwk.de/de/termine/termin/80-ja
 hre-proteste-in-der-rosenstrasse-im-februar-1943  
X-ALT-DESC;FMTTYPE=text/html: <p>23.2.2023 / Online</p><p><a href="https://
 www.ghwk.de/de/termine/termin/80-jahre-proteste-in-der-rosenstrasse-im-febr
 uar-1943">https://www.ghwk.de/de/termine/termin/80-jahre-proteste-in-der-ro
 senstrasse-im-februar-1943</a></p><p> </p><p>[av_button label='iCal-Export'
  link='./feed/eo-events' link_target='' size='small' position='center' labe
 l_display='' title_attr='' icon_select='yes' icon='ue85b' font='entypo-font
 ello' color='custom' custom_bg='#b5123e' custom_font='#ffffff' av_uid='' id
 ='' custom_class='' admin_preview_bg='']</p>
CATEGORIES:Recht interdisziplinär
LOCATION:Online
GEO:0.000000;0.000000
ORGANIZER;CN="ViFa-Recht":MAILTO:vifa-recht@sbb.spk-berlin.de
URL;VALUE=URI:https://events.intrecht.de/termine/termin/80-jahre-proteste-i
 n-der-rosenstrasse-im-februar-1943-webinar/
END:VEVENT
BEGIN:VTIMEZONE
TZID:Europe/Berlin
BEGIN:STANDARD
TZOFFSETFROM:+0200
TZOFFSETTO:+0100
DTSTART:20221030T010000
TZNAME:CET
END:STANDARD
END:VTIMEZONE
END:VCALENDAR
