BEGIN:VCALENDAR
VERSION:2.0
PRODID:-//Events | FID-Recht//NONSGML Events//EN
CALSCALE:GREGORIAN
X-ORIGINAL-URL:https://events.intrecht.de/termine/
X-WR-CALDESC:Events | FID-Recht - Events
BEGIN:VEVENT
UID:20220805T2128Z-1659734921.7415-EO-4558-1@172.16.200.151
STATUS:CONFIRMED
DTSTAMP:20260421T164114Z
CREATED:20220804T150305Z
LAST-MODIFIED:20220804T150305Z
DTSTART;VALUE=DATE:20220902
DTEND;VALUE=DATE:20220904
SUMMARY: 8. Prozessrechtstagung (Tagung)
DESCRIPTION: 2./3.9.2022\, Berlin Prozessrechtstagung – BSP Business & Law 
 School Berlin (businessschool-berlin.de)  
X-ALT-DESC;FMTTYPE=text/html: <p>2./3.9.2022\, Berlin</p><p><a href="https:
 //www.businessschool-berlin.de/events-detail/prozessrechtstagung/">Prozessr
 echtstagung - BSP Business & Law School Berlin (businessschool-berlin.de)</
 a></p><p> </p><p>[av_button label='iCal-Export' link='./feed/eo-events' lin
 k_target='' size='small' position='center' label_display='' title_attr='' i
 con_select='yes' icon='ue85b' font='entypo-fontello' color='custom' custom_
 bg='#b5123e' custom_font='#ffffff' av_uid='' id='' custom_class='' admin_pr
 eview_bg='']</p>
CATEGORIES:Recht interdisziplinär
LOCATION:Inland
GEO:0.000000;0.000000
ORGANIZER;CN="ViFa-Recht":MAILTO:vifa-recht@sbb.spk-berlin.de
URL;VALUE=URI:https://events.intrecht.de/termine/termin/8-prozessrechtstagu
 ng-tagung/
END:VEVENT
BEGIN:VTIMEZONE
TZID:Europe/Berlin
BEGIN:DAYLIGHT
TZOFFSETFROM:+0100
TZOFFSETTO:+0200
DTSTART:20220327T010000
TZNAME:CEST
END:DAYLIGHT
END:VTIMEZONE
END:VCALENDAR
