BEGIN:VCALENDAR
VERSION:2.0
PRODID:-//Events | FID-Recht//NONSGML Events//EN
CALSCALE:GREGORIAN
X-ORIGINAL-URL:https://events.intrecht.de/termine/
X-WR-CALDESC:Events | FID-Recht - Events
BEGIN:VEVENT
UID:20200815T1942Z-1597520525.3785-EO-1294-1@172.16.200.141
STATUS:CONFIRMED
DTSTAMP:20260420T111856Z
CREATED:20200730T175248Z
LAST-MODIFIED:20201201T190836Z
DTSTART;VALUE=DATE:20200901
DTEND;VALUE=DATE:20200902
SUMMARY: 7th Student Conference in Theory and Philosophy of Law – Internati
 onal Tribunals and the Rule of Law (Call for abstracts)
DESCRIPTION: 4.12.2020\, Belgrad (Frist für Einreichungen: 1.9.2020) https:
 //ivronlineblog.files.wordpress.com/2020/06/plakat-print-en.pdf https://www
 .facebook.com/eudaimoniarevue/photos/pb.354052604790055.-2207520000../14298
 83307206974/?type=3&theater
X-ALT-DESC;FMTTYPE=text/html: <p>4.12.2020\, Belgrad (Frist für Einreichung
 en: 1.9.2020)</p><p><a href="https://ivronlineblog.files.wordpress.com/2020
 /06/plakat-print-en.pdf">https://ivronlineblog.files.wordpress.com/2020/06/
 plakat-print-en.pdf</a></p><p><a href="https://www.facebook.com/eudaimoniar
 evue/photos/pb.354052604790055.-2207520000../1429883307206974/?type=3&theat
 er">https://www.facebook.com/eudaimoniarevue/photos/pb.354052604790055.-220
 7520000../1429883307206974/?type=3&theater</a></p><p>[av_button label='iCal
 -Export' link='./feed/eo-events' link_target='' size='small' position='cent
 er' label_display='' title_attr='' icon_select='yes' icon='ue85b' font='ent
 ypo-fontello' color='custom' custom_bg='#b5123e' custom_font='#ffffff' av_u
 id='' id='' custom_class='' admin_preview_bg='']</p>
CATEGORIES:Europäisches / Internationales Recht,Recht interdisziplinär
LOCATION:Ausland
GEO:0.000000;0.000000
ORGANIZER;CN="ViFa-Recht":MAILTO:vifa-recht@sbb.spk-berlin.de
URL;VALUE=URI:https://events.intrecht.de/termine/termin/7th-student-confere
 nce-in-theory-and-philosophy-of-law-international-tribunals-and-the-rule-of
 -law-call-for-abstracts/
END:VEVENT
BEGIN:VTIMEZONE
TZID:Europe/Berlin
BEGIN:DAYLIGHT
TZOFFSETFROM:+0100
TZOFFSETTO:+0200
DTSTART:20200329T010000
TZNAME:CEST
END:DAYLIGHT
END:VTIMEZONE
END:VCALENDAR
