BEGIN:VCALENDAR
VERSION:2.0
PRODID:-//Events | FID-Recht//NONSGML Events//EN
CALSCALE:GREGORIAN
X-ORIGINAL-URL:https://events.intrecht.de/termine/
X-WR-CALDESC:Events | FID-Recht - Events
BEGIN:VEVENT
UID:20200603T1418Z-1591193923.3362-EO-587-1@172.16.200.141
STATUS:CONFIRMED
DTSTAMP:20260425T181315Z
CREATED:20231106T160838Z
LAST-MODIFIED:20231106T160838Z
DTSTART;VALUE=DATE:20231109
DTEND;VALUE=DATE:20231110
SUMMARY: 75 Jahre Tokioter Hauptkriegsverbrecherprozess: Nürnbergs gescheit
 erter Zwilling? (Vortrag)
DESCRIPTION: 9.11.2023 / München https://www.str1.rw.fau.de/2023/10/31/vera
 nstaltungshinweis-75-jahre-tokioter-hauptkriegsverbrecherprozess-nuernbergs
 -gescheiterter-zwilling/
X-ALT-DESC;FMTTYPE=text/html: <p>9.11.2023 / München</p><p><a href="https:/
 /www.str1.rw.fau.de/2023/10/31/veranstaltungshinweis-75-jahre-tokioter-haup
 tkriegsverbrecherprozess-nuernbergs-gescheiterter-zwilling/">https://www.st
 r1.rw.fau.de/2023/10/31/veranstaltungshinweis-75-jahre-tokioter-hauptkriegs
 verbrecherprozess-nuernbergs-gescheiterter-zwilling/</a></p><p>[av_button l
 abel='iCal-Export' link='./feed/eo-events' link_target='' size='small' posi
 tion='center' label_display='' title_attr='' icon_select='yes' icon='ue85b'
  font='entypo-fontello' color='custom' custom_bg='#b5123e' custom_font='#ff
 ffff' av_uid='' id='' custom_class='' admin_preview_bg='']</p>
CATEGORIES:Strafrecht
LOCATION:Inland
GEO:0.000000;0.000000
ORGANIZER;CN="ViFa-Recht":MAILTO:vifa-recht@sbb.spk-berlin.de
URL;VALUE=URI:https://events.intrecht.de/termine/termin/75-jahre-tokioter-h
 auptkriegsverbrecherprozess-nuernbergs-gescheiterter-zwilling-vortrag/
END:VEVENT
BEGIN:VTIMEZONE
TZID:Europe/Berlin
BEGIN:STANDARD
TZOFFSETFROM:+0200
TZOFFSETTO:+0100
DTSTART:20231029T010000
TZNAME:CET
END:STANDARD
END:VTIMEZONE
END:VCALENDAR
