BEGIN:VCALENDAR
VERSION:2.0
PRODID:-//Events | FID-Recht//NONSGML Events//EN
CALSCALE:GREGORIAN
X-ORIGINAL-URL:https://events.intrecht.de/termine/
X-WR-CALDESC:Events | FID-Recht - Events
BEGIN:VEVENT
UID:20200603T1418Z-1591193923.3362-EO-587-1@172.16.200.141
STATUS:CONFIRMED
DTSTAMP:20260422T123645Z
CREATED:20240214T104200Z
LAST-MODIFIED:20240214T104200Z
DTSTART;VALUE=DATE:20240418
DTEND;VALUE=DATE:20240419
SUMMARY: 75 Jahre Grundgesetz. Ein Versprechen auf die Zukunft? (Tagung / E
 in Tag zu den Grundrechten)
DESCRIPTION: 18.4.2024 / Stuttgart https://www.lpb-bw.de/fileadmin/lpb_haup
 tportal/veranstaltungsprogramme/pdf/seminar_23723.pdf
X-ALT-DESC;FMTTYPE=text/html: <p>18.4.2024 / Stuttgart</p><p><a href="https
 ://www.lpb-bw.de/fileadmin/lpb_hauptportal/veranstaltungsprogramme/pdf/semi
 nar_23723.pdf">https://www.lpb-bw.de/fileadmin/lpb_hauptportal/veranstaltun
 gsprogramme/pdf/seminar_23723.pdf</a></p><p>[av_button label='iCal-Export' 
 link='./feed/eo-events' link_target='' size='small' position='center' label
 _display='' title_attr='' icon_select='yes' icon='ue85b' font='entypo-fonte
 llo' color='custom' custom_bg='#b5123e' custom_font='#ffffff' av_uid='' id=
 '' custom_class='' admin_preview_bg='']</p>
CATEGORIES:Öffentliches Recht
LOCATION:Inland
GEO:0.000000;0.000000
ORGANIZER;CN="ViFa-Recht":MAILTO:vifa-recht@sbb.spk-berlin.de
URL;VALUE=URI:https://events.intrecht.de/termine/termin/75-jahre-grundgeset
 z-ein-versprechen-auf-die-zukunft-tagung-ein-tag-zu-den-grundrechten/
END:VEVENT
BEGIN:VTIMEZONE
TZID:Europe/Berlin
BEGIN:DAYLIGHT
TZOFFSETFROM:+0100
TZOFFSETTO:+0200
DTSTART:20240331T010000
TZNAME:CEST
END:DAYLIGHT
END:VTIMEZONE
END:VCALENDAR
