BEGIN:VCALENDAR
VERSION:2.0
PRODID:-//Events | FID-Recht//NONSGML Events//EN
CALSCALE:GREGORIAN
X-ORIGINAL-URL:https://events.intrecht.de/termine/
X-WR-CALDESC:Events | FID-Recht - Events
BEGIN:VEVENT
UID:20200603T1418Z-1591193923.3362-EO-587-1@172.16.200.141
STATUS:CONFIRMED
DTSTAMP:20260425T132605Z
CREATED:20231109T184257Z
LAST-MODIFIED:20231109T184257Z
DTSTART;VALUE=DATE:20231123
DTEND;VALUE=DATE:20231124
SUMMARY: 70 Jahre Unionsrecht – eine Union für die Bürgerinnen und Bürger (
 Buchvorstellung und Paneldiskussion)
DESCRIPTION: 23.11.2023 / Berlin https://www.rewi.hu-berlin.de/de/lf/ls/rft
 /veranstaltungen/winter-und-sommersemester-2023-2024/ankuendigung-buchvorst
 ellung-und-paneldiskussion-70-jahre-unionsrecht-eine-union-fuer-die-buerger
 innen-und-buerger
X-ALT-DESC;FMTTYPE=text/html: <p>23.11.2023 / Berlin</p><p><a href="https:/
 /www.rewi.hu-berlin.de/de/lf/ls/rft/veranstaltungen/winter-und-sommersemest
 er-2023-2024/ankuendigung-buchvorstellung-und-paneldiskussion-70-jahre-unio
 nsrecht-eine-union-fuer-die-buergerinnen-und-buerger">https://www.rewi.hu-b
 erlin.de/de/lf/ls/rft/veranstaltungen/winter-und-sommersemester-2023-2024/a
 nkuendigung-buchvorstellung-und-paneldiskussion-70-jahre-unionsrecht-eine-u
 nion-fuer-die-buergerinnen-und-buerger</a></p><p>[av_button label='iCal-Exp
 ort' link='./feed/eo-events' link_target='' size='small' position='center' 
 label_display='' title_attr='' icon_select='yes' icon='ue85b' font='entypo-
 fontello' color='custom' custom_bg='#b5123e' custom_font='#ffffff' av_uid='
 ' id='' custom_class='' admin_preview_bg='']</p>
CATEGORIES:Europäisches / Internationales Recht
LOCATION:Inland
GEO:0.000000;0.000000
ORGANIZER;CN="ViFa-Recht":MAILTO:vifa-recht@sbb.spk-berlin.de
URL;VALUE=URI:https://events.intrecht.de/termine/termin/70-jahre-unionsrech
 t-eine-union-fuer-die-buergerinnen-und-buerger-buchvorstellung-und-paneldis
 kussion/
END:VEVENT
BEGIN:VTIMEZONE
TZID:Europe/Berlin
BEGIN:STANDARD
TZOFFSETFROM:+0200
TZOFFSETTO:+0100
DTSTART:20231029T010000
TZNAME:CET
END:STANDARD
END:VTIMEZONE
END:VCALENDAR
