BEGIN:VCALENDAR
VERSION:2.0
PRODID:-//Events | FID-Recht//NONSGML Events//EN
CALSCALE:GREGORIAN
X-ORIGINAL-URL:https://events.intrecht.de/termine/
X-WR-CALDESC:Events | FID-Recht - Events
BEGIN:VEVENT
UID:20230322T2158Z-1679522317.2089-EO-8133-1@172.16.200.151
STATUS:CONFIRMED
DTSTAMP:20260426T045814Z
CREATED:20230123T123013Z
LAST-MODIFIED:20230123T123013Z
DTSTART;VALUE=DATE:20230210
DTEND;VALUE=DATE:20230213
SUMMARY: 6th Seth Jagannath Bajaj Memorial Rnbgu International Moot Court C
 ompetition
DESCRIPTION: 10.-12.2.2023 / Bikaner (Indien) https://voelkerrechtsblog.org
 /wp-content/uploads/2023/01/6th-Seth-Jagannath-Bajaj-International-RNB-Moot
 -Court-Competition-2023-Brochure-2.pdf  
X-ALT-DESC;FMTTYPE=text/html: <p>10.-12.2.2023 / Bikaner (Indien)</p><p><a 
 href="https://voelkerrechtsblog.org/wp-content/uploads/2023/01/6th-Seth-Jag
 annath-Bajaj-International-RNB-Moot-Court-Competition-2023-Brochure-2.pdf">
 https://voelkerrechtsblog.org/wp-content/uploads/2023/01/6th-Seth-Jagannath
 -Bajaj-International-RNB-Moot-Court-Competition-2023-Brochure-2.pdf</a></p>
 <p> </p><p>[av_button label='iCal-Export' link='./feed/eo-events' link_targ
 et='' size='small' position='center' label_display='' title_attr='' icon_se
 lect='yes' icon='ue85b' font='entypo-fontello' color='custom' custom_bg='#b
 5123e' custom_font='#ffffff' av_uid='' id='' custom_class='' admin_preview_
 bg='']</p>
CATEGORIES:Europäisches / Internationales Recht
LOCATION:Ausland
GEO:0.000000;0.000000
ORGANIZER;CN="ViFa-Recht":MAILTO:vifa-recht@sbb.spk-berlin.de
URL;VALUE=URI:https://events.intrecht.de/termine/termin/6th-seth-jagannath-
 bajaj-memorial-rnbgu-international-moot-court-competition/
END:VEVENT
BEGIN:VTIMEZONE
TZID:Europe/Berlin
BEGIN:STANDARD
TZOFFSETFROM:+0200
TZOFFSETTO:+0100
DTSTART:20221030T010000
TZNAME:CET
END:STANDARD
END:VTIMEZONE
END:VCALENDAR
